BEGIN:VCALENDAR
PRODID:-//eluceo/ical//2.0/EN
VERSION:2.0
CALSCALE:GREGORIAN
BEGIN:VEVENT
UID:468a52e0acca6adf0ac1256504143729
DTSTAMP:20260423T130401Z
SUMMARY:Seminář Cesty: rozvoj talentu a dovedností mladých uprchlíků 
 z Ukrajiny.
DESCRIPTION:Název akce: Seminář Cesty: rozvoj talentu a dovedností mlad
 ých uprchlíků z Ukrajiny.\nURL: https://www.spcr.cz/seminar-cesty-rozvo
 j-talentu-dovednosti-mladych-uprchliku-z-ukrajiny\nPopis: \n\nPozvánka na
  seminář: CESTY - rozvoj talentu a dovedností mladých uprchlíků z U
 krajiny.\nVládní zmocněnec pro rekonstrukci Ukrajiny\, Tomáš Kopečn
 ý\, Vás společně s Kanceláří UNICEF pro podporu řešení uprchlick
 é situace v České republice a ve spolupráci s Hospodářskou komorou 
 ČR a Svazem průmyslu a dopravy ČR zve na seminář k iniciativě Cesty
 .\nSeminář se uskuteční ve čtvrtek\, 6. června od 9:30 do 12:00 ve
  Velkém sále Černínského paláce. Registrovat na tento seminář se 
 můžete přes registrační link do 31. května 2024.\nVíce informací
  k programu obdržíte blíže k termínu konání (aktuální předběžn
 ý program naleznete níže + two-pager této iniciativy).\nSeminář umo
 žní diskuzi aktérů ze soukromého sektoru\, státní správy\, organiz
 ací občanské společnosti a ukrajinské mládeže\, jejichž spoluprác
 e je pro úspěch iniciativy klíčová. Poskytne firmám potřebné infor
 mace k připojení se k iniciativě a již zapojeným firmám umožní př
 edstavit svůj závazek.\nCílem iniciativy Cesty je pomoci mladým uprchl
 íkům z Ukrajiny rozvíjet jejich potenciál\, zároveň si vydělávat n
 a obživu v důstojných podmínkách. Iniciativa vznikla v Česku\, proje
 vily o ní zájem i další země a podporuje ji ukrajinská vláda.\nRozv
 oj lidského potenciálu a talentu mladých lidí bude jedním ze čtyř p
 ilířů blížící se Konference o obnově Ukrajiny v Berlíně. Česko 
 s českými firmami v čele má příležitost hrát zásadní roli v tét
 o klíčové oblasti pomoci Ukrajině.\nV Česku žije přes 66 tisíc mla
 dých lidí ve věku 15 až 24 let\, kteří museli kvůli válce uprchnou
 t z Ukrajiny. Tito lidé čelí mnoha výzvám. Mezi ty často patří tla
 k finančně zabezpečit sebe a svou rodinu\, a to i za cenu opuštění v
 zdělání a dalších forem rozvoje dovedností.\nVytvořením příleži
 tostí ke studiu a k odborným stážím při zaměstnání firmy pomoho
 u mladým lidem z Ukrajiny s jejich integrací do české společnosti\, z
 ároveň získají přístup k mladým talentům\, které mohou pomoci rů
 stu firmy i české ekonomiky. Zapojením se do Cest firmy pomohou s vyšk
 olením odborné pracovní síly\, která bude moci v budoucnu přispět k
  obnově a ekonomickému růstu Ukrajiny.\nPředběžný program seminář
 e:\n9:30-9:55 hod.\nÚvod a hlavní cíle: spojenými silami k podpoře ml
 adých uprchlíků\; příležitosti pro firmy\, mladé lidi\, Ukrajinu a 
 Česko Úvodní slovo vládního zmocněnce pro rekonstrukci Ukrajiny Tom
 áše Kopečného a zástupců Hospodářské komory ČR a Svazu průmyslu
  a dopravy ČR\n9:55-10:10 hod.\nIniciativa Cesty: zaměstnání\, které 
 posilujePředstavení inciativy a role\, kterou v ní může sehrát soukr
 omý sektor\, UNICEF\n10:10-10:30 hod.\nHlas mladých uprchlíků a uprchl
 ic z UkrajinyPanelová diskuze s mladými lidmi z Ukrajiny\, kteří před
 staví své zkušenosti z České republiky\n10:30-10:45 hod.\nCoffee brea
 k\n10:45-10:55 hod.\nVýzva pro firmy a jak se k ní přidatUNICEF\n10:55-
 11:05 hod.\nZkušenosti firem\, které se k výzvě již přidalyTBC\n11:0
 5-11:25 hod.\nZkušenosti českých firem a možné příležitosti pro ml
 adé lidi z UkrajinyPanelová diskuze\n11:25-11:40 hod.\nZávěrečná dis
 kuze\, Q&A a další postup\n11:40-12:00 hod.\nNetworking\n \n V přípa
 dě dotazů nebo nejasností nás neváhejte kontaktovat na mnatafalusi@sp
 cr.cz nebo langerova@komora.cz\n \nCesty_TwoPager_CZ.pdf\n \n\n\n\nPř
 ihlášení a registrace neznamená automaticky účast na tomto seminář
 i\, na který není právní nárok. O složení a účasti na semináři 
 rozhoduje příslušná komise SP ČR.\n
URL:https://www.spcr.cz/seminar-cesty-rozvoj-talentu-dovednosti-mladych-upr
 chliku-z-ukrajiny
DTSTART:20240606T093000
DTEND:20240606T120000
LOCATION:
END:VEVENT
END:VCALENDAR
