BEGIN:VCALENDAR
PRODID:-//eluceo/ical//2.0/EN
VERSION:2.0
CALSCALE:GREGORIAN
BEGIN:VEVENT
UID:8405ff1774f55cc219833e505797da63
DTSTAMP:20260423T145913Z
SUMMARY:HR Fresh: Šťavnaté novinky na poli HR 2024
DESCRIPTION:Název akce: HR Fresh: Šťavnaté novinky na poli HR 2024\nURL
 : https://www.spcr.cz/hr-fresh-stavnate-novinky-na-poli-hr-2024\nPopis: \n
 \nNenechte si ujít HR Fresh\, který se zaměří na klíčové aspekty s
 oučasného trhu práce\, aktuální legislativní změny a inovativní tr
 endy v oblasti zaměstnávání.Na jaká témata se můžete těšit?\n\nv
 ýsledky nejnovějšího průzkumu Hofmann Monitor o aktuální situaci na
  trhu práce\ndopady nedávných změn zákoníku práce na podniky v Čes
 ké republice\nlegislativní změny roku 2024 v praxi\nAI novinky: využit
 í umělé inteligence ve Vaší organizaci ve světě vzdělávání\nzam
 ěstnávání cizinců aneb kde brát\, když lidé nejsou\nnové éra ná
 boru zaměstnanců s revolučními metodami a technologiemi AI a mnohem v
 íce\n\nTématy Vás provedou naši HR odborníci Bohumila Černochová a 
 Denisa Divišová\, ke kterým se připojí odborník na HR a technologie 
 Matěj Matolín\, zakladatel kreativního náborového studia Aplayerz\, a
  David Borovec - advokát se zkušenostmi v oblasti pracovního práva\, B
 OROVEC LEGAL.\nČlenské firmy Svazu průmyslu a dopravy ČR mají vstup z
 darma. Registrace na akci ZDE\n
URL:https://www.spcr.cz/hr-fresh-stavnate-novinky-na-poli-hr-2024
DTSTART:20240612T090000
DTEND:20240612T120000
LOCATION:
END:VEVENT
END:VCALENDAR
