BEGIN:VCALENDAR
PRODID:-//eluceo/ical//2.0/EN
VERSION:2.0
CALSCALE:GREGORIAN
BEGIN:VEVENT
UID:57a7d55c174725d65b9e0ba005a27328
DTSTAMP:20260423T150144Z
SUMMARY:Exekuce\, srážky ze mzdy
DESCRIPTION:Název akce: Exekuce\, srážky ze mzdy\nURL: https://www.spcr.
 cz/exekuce-srazky-ze-mzdy\nPopis: \n\nSvaz průmyslu a dopravy ČR si Vás
  v rámci projektu „Podpora národního\, odvětvového a regionálního
  sociálního dialogu v ČR“ dovoluje pozvat na online diskusní fórum\
 nEXEKUCE\, SRÁŽKY ZE MZDY\n18. ČERVNA 2024\, 9:00 – 11:00 HOD. | ONLI
 NE\n \nCílem diskusního fóra je seznámit účastníky s novinkami v o
 blasti exekucí a zjistit jejich dopady do praxe.\nPROGRAM\n\nPrávní př
 edpisy upravující postup při provádění srážek ze mzdy\nPříjmy\, 
 z nichž se srážky provádějí - §§ 276\, 277 a 299 OSŘ\nSrážky be
 z souhlasu zaměstnance a se souhlasem zaměstnance\nSrážky přednostní
  a nepřednostní\nPojem vyživovaná osoba\nPostup při provádění srá
 žek ze mzdy při souběhu exekučních srážek a srážek na základě d
 ohody\nSouběh exekucí a poměrná úhrada dluhů\nDoručování exekučn
 ích titulů do datových schránek\nExekuce a dočasná pracovní neschop
 nost\, PPM – povinnosti vůči OSSZ a opačně\nNáhradní výživné\nC
 hráněný účet\nInsolvenční zákon a insolvence fyzické osoby\nSouč
 innost zaměstnavatele vůči insolvenčním správcům\, exekutorům\, so
 udům\nDiskuse\n\n\nČASOVÝ HARMONOGRAM\n08:45 – 09:00 Připojení úč
 astníků09:00 – 11:00 Informační blok včetně diskuse\nMODERÁTOR\nJ
 UDr. Monika Emanuelová - právnička\, externí spolupracovnice Svazu pr
 ůmyslu a dopravy ČR\nREGISTRACE\nNa akci\, se\, prosím\, registrujte ZD
 E.\nREALIZACE AKCE\nDiskusní fórum bude probíhat na platformě ZOOM. Ne
 ní nutná žádná instalace programu\, stačí připojení k internetu. 
 Odkaz k připojení obdržíte od organizátora akce nejpozději v den jej
 ího konání na e-mail uvedený v registraci. Účast na diskusním fóru
  bude umožněna pouze registrovaným osobám.\nKONTAKT\n\nIng. Radka Bár
 tíková\, telefon: 733 411 179\, e-mail: rbartikova@spcr.cz\n
URL:https://www.spcr.cz/exekuce-srazky-ze-mzdy
DTSTART:20240618T100000
DTEND:20240618T130000
LOCATION:
END:VEVENT
END:VCALENDAR
