BEGIN:VCALENDAR
PRODID:-//eluceo/ical//2.0/EN
VERSION:2.0
CALSCALE:GREGORIAN
BEGIN:VEVENT
UID:ba0c7a44723f33fc793159b7990ae4b1
DTSTAMP:20260423T125530Z
SUMMARY:Veřejné zakázky - Snižování administrativní zátěže
DESCRIPTION:Název akce: Veřejné zakázky - Snižování administrativní
  zátěže\nURL: https://www.spcr.cz/verejne-zakazky-snizovani-administrat
 ivni-zateze\nPopis: \n\nSvaz průmyslu a dopravy ČR si Vás v rámci proj
 ektu „Podpora národního\, odvětvového a regionálního sociálního 
 dialogu v ČR“ dovoluje pozvat na online diskusní fórum\nVEŘEJNÉ ZAK
 ÁZKY - SNIŽOVÁNÍ ADMINISTRATIVNÍ ZÁTĚŽE\n \nV rámci diskusního 
 fóra si stručně zopakujeme základní pravidla zadávání veřejných 
 zakázek z pohledu zadavatelů i uchazečů (fáze zadávání\, základn
 í zásady zadávání\, druhy zadávacího řízení\, kvalifikace\, zru
 šení zadávacího řízení aj.) a řekneme vám\, na co si dát pozor. 
 Seznámíme vás i s plánovanými novinkami\, jejichž cílem je snížit
  administrativní zátěž v této oblasti.\nDISKUSNÍ OKRUHY\n\nzákon o 
 zadávání veřejných zakázek\nsociálně odpovědné zadávání\nmode
 rnizace zadávání veřejných zakázek\nbudoucnost veřejných zakázek 
 v EU\n\nČASOVÝ HARMONOGRAM\n08:45 – 09:00 připojení účastníků09:
 00 – 11:00 prezentace11:00 – 11:30 diskuse\nMODERÁTOR\nJUDr. Jitka Hl
 aváčková – právník\, poradce generálního ředitele SP ČR \nREALI
 ZACE AKCE\nDiskusní fórum bude probíhat online na platformě ZOOM. Nen
 í nutná žádná instalace programu. Pro připojení se k diskusnímu f
 óru pro Vás bude dostačující odkaz\, který obdržíte od organizáto
 ra akce nejpozději jeden pracovní den před konáním akce na e-mail uve
 dený v registraci. Účast na diskusním fóru bude umožněna pouze regi
 strovaným osobám.\nREGISTRACE\nNa setkání se prosím registrujte ZDE n
 ejpozději do 3.6.2024V případě dotazů se prosím obraťte na organiz
 átora akce Radku Bartíkovou (telefon: 731 411 179 e-mail: rbartikova@spc
 r.cz).\n
URL:https://www.spcr.cz/verejne-zakazky-snizovani-administrativni-zateze
DTSTART:20240605T090000
DTEND:20240605T110000
LOCATION:
END:VEVENT
END:VCALENDAR
