BEGIN:VCALENDAR
PRODID:-//eluceo/ical//2.0/EN
VERSION:2.0
CALSCALE:GREGORIAN
BEGIN:VEVENT
UID:8a318315eb25268e62c6990acf7ecf5b
DTSTAMP:20260423T124800Z
SUMMARY:Seminář k financování - Ukrajina
DESCRIPTION:Název akce: Seminář k financování - Ukrajina\nURL: https:/
 /www.spcr.cz/seminar-k-financovani-ukrajina\nPopis: \n\nDovolte nám jmén
 em Svazu průmyslu a dopravy ČR a Ministerstva průmyslu a obchodu ČR V
 ás pozvat na krátký informativní videoseminář pořádaný Sekcí EU 
 a zahraničního obchodu MPO k možnostem zapojení českých firem do rek
 onstrukčních projektů na Ukrajině\, včetně možností financování\
 , zejména do Ukraine Facility připravované Evropskou komisí\, který
  povede vrchní ředitel sekce David Müller. Dále se zúčastní zástu
 pci EGAP\, NRB a týmu vládního zmocněnce pro rekonstrukci Ukrajiny. Te
 nto videoseminář bude úvodní\, účastníci ze strany firem mohou v p
 řípadě zájmu zůstat v anonymitě.\nSchůzka se uskuteční online v p
 átek 17. 5. 2024 od 9:30\, odkaz na MS Teams bude zaslán den před semi
 nářem.\nŽádáme\, prosím\, o potvrzení účasti zástupce Vaší spo
 lečnosti na e-maily vaclav.lidl@mpo.gov.cz a jakub.mares@mpo.gov.cz d
 o středy 15. 5. 2024. \nKromě informace ohledně možného zapojení do
  Ukraine Facility bude podána krátká informace ohledně dalších rozpr
 acovávaných možností financování projektů českých firem na Ukraji
 ně.\nV případě doplňujícich informací se na nás neváhejte obráti
 t: mnatafalusi@spcr.cz\n
URL:https://www.spcr.cz/seminar-k-financovani-ukrajina
DTSTART:20240517T093000
DTEND:20240517T113000
LOCATION:
END:VEVENT
END:VCALENDAR
