BEGIN:VCALENDAR
PRODID:-//eluceo/ical//2.0/EN
VERSION:2.0
CALSCALE:GREGORIAN
BEGIN:VEVENT
UID:d7a63b7f5dec226b9ccc39e11a9a57aa
DTSTAMP:20260423T174650Z
SUMMARY:Konzultace s ekonomickými diplomaty a zahraničními kancelářemi
  CzechTrade 2024
DESCRIPTION:Název akce: Konzultace s ekonomickými diplomaty a zahraničn
 ími kancelářemi CzechTrade 2024\nURL: https://www.spcr.cz/konzultace-s-
 ekonomickymi-diplomaty-zahranicnimi-kancelaremi-czechtrade-2024\nPopis: \n
 \nPotřebujete rozšířit svoje exportní aktivity\, ale tápete jakou fo
 rmu zvolit při vstupu na nový trh? Nevíte\, jaké jsou aktuální obcho
 dní příležitosti ve vašem oboru nebo se potýkáte s překážkami p
 ři prodeji svých výrobků či služeb do zahraničí? Nevíte\, jak naj
 ít vhodného obchodního partnera?Přijďte si pro odpovědi 27. 6. 2024
  na jedinečné akci Konzultace s ekonomickými diplomaty a zahraničními
  kancelářemi CzechTrade 2024\, kdy budete mít možnost na jednom míst
 ě diskutovat všechny Vaše otázky s ekonomickými\, zemědělskými\, v
 ědeckými diplomaty\, řediteli zahraničních kanceláří CzechTrade a 
 CzechInvest a dalšími odborníky např. z České exportní banky (ČEB)
  či Exportní garanční a pojišťovací společnosti (EGAP).\n\nKonzult
 ovat můžete až 7 teritorií na firmu + neomezená jednání s experty
  u projektových stolů.\nKonzultace budou probíhat od 8:00 do 18:00.\nD
 élka individuálních schůzek je 20 minut a každé schůzky se mohou z
 účastnit až 2 zástupci z jedné firmy. \nUzávěrka registrací je v
  pátek 7. června 2024.\nČasový harmonogram schůzek Vám bude zaslán
  nejpozději v pátek 21. června 2024.\nÚspěšná registrace na akci V
 ám bude potvrzena automatickým e-mailem.\nDoporučujeme zaslat registra
 ci co nejdříve\, při zpracování časového harmonogramu bereme zřete
 l na časovou posloupnost došlých přihlášek. Registrace budou provede
 ny do vyčerpání kapacity schůzek.\nÚčast na akci je po předchozí r
 egistraci zdarma.\nFirmě\, která nebude předem registrována prostředn
 ictvím elektronického formuláře\, nebude účast na konzultacích umo
 žněna.\nPodrobné informace naleznete v instrukcích. \n\nMÁTE DOTAZY?
 \n\nObraťte se na nás prostřednictvím e-mailu: konzultace@spcr.cz.\n
URL:https://www.spcr.cz/konzultace-s-ekonomickymi-diplomaty-zahranicnimi-ka
 ncelaremi-czechtrade-2024
DTSTART:20240627T080000
DTEND:20240627T180000
LOCATION:
END:VEVENT
END:VCALENDAR
