BEGIN:VCALENDAR
PRODID:-//eluceo/ical//2.0/EN
VERSION:2.0
CALSCALE:GREGORIAN
BEGIN:VEVENT
UID:eb95e22b96667a2383ffd2c9c54ff1db
DTSTAMP:20260423T125644Z
SUMMARY:TaipeiPLAS & ShoeTech Taipei 2024
DESCRIPTION:Název akce: TaipeiPLAS & ShoeTech Taipei 2024\nURL: https://ww
 w.spcr.cz/taipeiplas-shoetech-taipei-2024\nPopis: \n\nDovolujeme si Vám p
 ředat pozvání Tchajpejské hospodářské a kulturní kanceláře v Pr
 aze na mezinárodní veletrh TaipeiPLAS & ShoeTech Taipei 2024\, největš
 í tchajwanský veletrh zaměřený na plastikářský a gumárenský prů
 mysl a obuvnické technologie. Veletrh se bude konat v Taipei Nangang Exhi
 bition Center od 24. září do 28. září 2024.\nVeletrh nabízí expon
 áty zaměřené na\; stroje na zpracování plastů a pryže\, stroje pro
  vstřikování plastů\, vyfukovací a vytlačovací stroje\, stroje a za
 řízení pro recyklaci\, pomocná zařízení\, díly a příslušenství
 \, suroviny\, polotovary a hotové výrobky\, automatizace\, průmyslové 
 roboty\, 3D tisk\, obuvnické stroje\, materiály a příslušenství\, te
 chnologie a zkušební přístroje pro výrobu obuvi.\nAktuální informac
 e naleznete na oficiálních webových stránkách: https://www.taipeiplas
 .com.tw/en/index.html\nNa podporu účasti na tomto veletrhu jsou nabízen
 í pobídkové balíčky. Nabídky platí do vyčerpání finančního roz
 počtu a balíčky jsou poskytovány podle pořadí přijetí přihlášky
 .\nPro registraci a podání pobídkové přihlášky vyplňte přiložen
 ý formulář "company profile" a zašlete jej na emailovou adresu czech@s
 a.moea.gov.tw nebo cztwec01@sa.moea.gov.tw .\nPro další informace se obr
 aťte na následující kontakt:Tereza ŠafářováEkonomické odděleníT
 chajpejská hospodářská a kulturní kancelář v PrazeTel.: (+420) 234 
 722 021\n
URL:https://www.spcr.cz/taipeiplas-shoetech-taipei-2024
DTSTART:20240924T000000
DTEND:20240928T235959
LOCATION:
END:VEVENT
END:VCALENDAR
