BEGIN:VCALENDAR
PRODID:-//eluceo/ical//2.0/EN
VERSION:2.0
CALSCALE:GREGORIAN
BEGIN:VEVENT
UID:dfebfa04d6721ef0cdc6394fc05b5b6c
DTSTAMP:20260423T150323Z
SUMMARY:Kulatý stůl: ČESKO NA EXPO OSAKA 2025
DESCRIPTION:Název akce: Kulatý stůl: ČESKO NA EXPO OSAKA 2025\nURL: htt
 ps://www.spcr.cz/kulaty-stul-cesko-na-expo-osaka-2025-0\nPopis: \n\nSvaz p
 růmyslu a dopravy České republiky Vás srdečně zve na kulatý stůl
  ČESKO NA EXPO OSAKA 2025\, který se bude konat hybridní formou (osobn
 í i online účast možná). Přijďte si poslechnout exkluzivní informa
 ce o přípravách a realizaci českého pavilonu a byznysového doprovodn
 ého programu\, které s Vámi bude sdílet Tomáš Akerman z týmu Kancel
 áře generálního komisaře pro EXPO pana Ondřeje Sošky.\n\nPŘIHLÁŠ
 ENÍ\n\nNa kulatý stůl se prosím registrujte do 16. 5. na: https://reg
 istrace.spcr.cz/\n\nTěšíme se na setkání s Vámi!\n
URL:https://www.spcr.cz/kulaty-stul-cesko-na-expo-osaka-2025-0
DTSTART:20240520T100000
DTEND:20240520T120000
LOCATION:
END:VEVENT
END:VCALENDAR
