BEGIN:VCALENDAR
PRODID:-//eluceo/ical//2.0/EN
VERSION:2.0
CALSCALE:GREGORIAN
BEGIN:VEVENT
UID:f88dce46fd9b78d31c6ba736287fc47c
DTSTAMP:20260423T145939Z
SUMMARY:Exekuce\, srážky ze mzdy (on-line)
DESCRIPTION:Název akce: Exekuce\, srážky ze mzdy (on-line)\nURL: https:/
 /www.spcr.cz/exekuce-srazky-ze-mzdy-line\nPopis: \n\nSvaz průmyslu a dopr
 avy ČR si Vás v rámci projektu „Podpora národního\, odvětvového 
 a regionálního sociálního dialogu v ČR“ dovoluje pozvat na online d
 iskusní fórum\nEXEKUCE\, SRÁŽKY ZE MZDY\nDiskusní fórum bude probíh
 at online na platformě ZOOM. Není nutná žádná instalace programu. Pr
 o připojení se k diskusnímu fóru pro Vás bude dostačující odkaz\, 
 který obdržíte od organizátora akce nejpozději jeden pracovní den p
 řed konáním akce na e-mail uvedený v registraci. Účast na diskusní
 m fóru bude umožněna pouze registrovaným osobám.\nProgram\n\nPrávní
  předpisy upravující postup při provádění srážek ze mzdy\nPříjm
 y\, z nichž se srážky provádějí - §§ 276\, 277 a 299 OSŘ\nSrážk
 y bez souhlasu zaměstnance a se souhlasem zaměstnance\nSrážky přednos
 tní a nepřednostní\nPojem vyživovaná osoba\nPostup při provádění 
 srážek ze mzdy při souběhu exekučních srážek a srážek na základ
 ě dohody\nSouběh exekucí a poměrná úhrada dluhů\nDoručování exek
 učních titulů do datových schránek\nExekuce a dočasná pracovní nes
 chopnost\, PPM – povinnosti vůči OSSZ a opačně\nNáhradní výživn
 é\nChráněný účet\nInsolvenční zákon a insolvence fyzické osoby\n
 Součinnost zaměstnavatele vůči insolvenčním správcům\, exekutorům
 \, soudům\nDiskuse\n\nČasový harmonogram\n08:45 – 09:00    Připoj
 ení účastníků\n09:00 – 11:00    Informační blok + diskuse \nm
 oderátor\n\nJUDr. Monika Emanuelová\, právnička\, externí spolupracov
 nice Svazu průmyslu a dopravy ČR\n\nRegistrace\n\nNa akci se\, prosím\,
  registrujte ZDE. \n\nKontakt\n\nIng. Radka Bártíková\, telefon: 733 
 411 179\, e-mail: rbartikova@spcr.cz\n
URL:https://www.spcr.cz/exekuce-srazky-ze-mzdy-line
DTSTART:20240516T090000
DTEND:20240516T110000
LOCATION:
END:VEVENT
END:VCALENDAR
