BEGIN:VCALENDAR
PRODID:-//eluceo/ical//2.0/EN
VERSION:2.0
CALSCALE:GREGORIAN
BEGIN:VEVENT
UID:285587ad47cecfc719b3319914cab9d8
DTSTAMP:20260423T145026Z
SUMMARY:Webinář: Podnikání v Texasu
DESCRIPTION:Název akce: Webinář: Podnikání v Texasu\nURL: https://www.
 spcr.cz/webinar-podnikani-v-texasu\nPopis: \n\nPro všechny\, kdo plánuj
 í zahájení podnikání v USA připravilo Enterprise Europe Network při
  Centru pro regionální rozvoj České republiky\, Slovak Business Agency
  společně s European American Chamber of Commerce (Texas) Vás zvou hodi
 nový webinář\, který Vás provede klíčovými aspekty podnikání v T
 exasu.\nVíce informací v pozvánce zde\nhttps://crr.gov.cz/kalendar/web-
 tex-2024/\nVíce informací podá Ing. Eva HRUBEŠOVÁ\, tel.: 737 114 693
 \, e-mail: eva.hrubesova@crr.cz .\n
URL:https://www.spcr.cz/webinar-podnikani-v-texasu
DTSTART:20240522T000000
DTEND:20240522T235959
LOCATION:
END:VEVENT
END:VCALENDAR
