BEGIN:VCALENDAR
PRODID:-//eluceo/ical//2.0/EN
VERSION:2.0
CALSCALE:GREGORIAN
BEGIN:VEVENT
UID:bd4bb216ee6e0f2131feea0e4894a7ed
DTSTAMP:20260423T145025Z
SUMMARY:Podnikání v umělé inteligenci
DESCRIPTION:Název akce: Podnikání v umělé inteligenci\nURL: https://ww
 w.spcr.cz/podnikani-v-umele-inteligenci\nPopis: \n\nPlatforma pro AI\, Sva
 z průmyslu a dopravy ČR a ICT Unie vás zvou na workshop Podnikání v u
 mělé inteligenci. Workshop je určen pro začínající a stávající p
 odnikatele a startupy. \nAkce se koná 6. 6. 2024 od 16 hodin online. Reg
 istrovat se můžete prostřednictvím přioženého QR kódu. Těšíme s
 e na Vás!\n
URL:https://www.spcr.cz/podnikani-v-umele-inteligenci
DTSTART:20240606T160000
DTEND:20240606T180000
LOCATION:
END:VEVENT
END:VCALENDAR
