BEGIN:VCALENDAR
PRODID:-//eluceo/ical//2.0/EN
VERSION:2.0
CALSCALE:GREGORIAN
BEGIN:VEVENT
UID:4a0c7595da520a5113779cb7609b3878
DTSTAMP:20260423T150324Z
SUMMARY:Česko-irácké podnikatelské fórum s premiérem Iráku
DESCRIPTION:Název akce: Česko-irácké podnikatelské fórum s premiérem
  Iráku\nURL: https://www.spcr.cz/cesko-iracke-podnikatelske-forum-s-premi
 erem-iraku\nPopis: \n\nSvaz průmyslu a dopravy ČR a Česko-irácká podn
 ikatelská rada si Vás dovoluje pozvat na setkání a briefing s předse
 dou vlády Iráku\, panem Mohammedem Shia‘ AI Sudani\, který bude dne 9
 . května 2024 na oficiální návštěvě ČR a rád by se krátce setkal
  s českými firmami\, které mají zájem o spolupráci s Irákem.\nTot
 o setkání by se uskutečnilo 9. května od 13:45 hod. v zasedacím sál
 e Ministerstva průmyslu a obchodu ČR (Na Františku 32\, Praha 1).\nFirm
 ám\, které potvrdí zájem\, budeme program a další organizační poky
 ny průběžně upřesňovat.\nV případě zájmu vás prosíme o regist
 raci přes link zde.\nUzávěrka registrací pro toto setkání je 7. kvě
 tna 2024 do 17:00 hod.\nPerspektivní oblasti pro firmy a vzájemnou spolu
 práci v obou zemích jsou zejména oblasti zemědělské techniky\, tech
 nologie pro vodu\, energetiku\, ropu a plyn.\nÚčastnické firmy budou m
 ít jedinečnou příležitost využít pozitivního vlivu politické dele
 gace\, která sebou přináší možnosti setkání s vrcholovými politi
 ckými představiteli.\nVěříme\, že využijete možnosti osobně se z
 účastnit jednání o rozvoji obchodní a hospodářské spolupráce mezi
  Českou republikou a Iráckou republikou\, a dozvědět se tak o možnost
 ech potenciální obchodní spolupráce v rozličných sektorech.\nV př
 ípadě dotazů se na nás neváhejte obrátit na mnatafalusi@spcr.cz (73
 3 643 556).\n
URL:https://www.spcr.cz/cesko-iracke-podnikatelske-forum-s-premierem-iraku
DTSTART:20240509T133000
DTEND:20240509T150000
LOCATION:
END:VEVENT
END:VCALENDAR
