BEGIN:VCALENDAR
PRODID:-//eluceo/ical//2.0/EN
VERSION:2.0
CALSCALE:GREGORIAN
BEGIN:VEVENT
UID:059003f7c15c44a323914e7ab62e51b5
DTSTAMP:20260423T145914Z
SUMMARY:Webinář o podnikání v Texasu
DESCRIPTION:Název akce: Webinář o podnikání v Texasu\nURL: https://www
 .spcr.cz/webinar-o-podnikani-v-texasu\nPopis: \n\nEEN společně s EEN v
  Texasu a s EEN ze Slovenska pořádá zdarma hodinový webinář Texas
  – atraktivní místo pro začátek podnikání v USA.\nVíce informac
 í včetně odkazu na registraci v dokumentu zde.\nÚčast na akci je ZDAR
 MA. Akce bude probíhat v anglickém jazyce.\n
URL:https://www.spcr.cz/webinar-o-podnikani-v-texasu
DTSTART:20240522T160000
DTEND:20240522T170000
LOCATION:
END:VEVENT
END:VCALENDAR
