BEGIN:VCALENDAR
PRODID:-//eluceo/ical//2.0/EN
VERSION:2.0
CALSCALE:GREGORIAN
BEGIN:VEVENT
UID:87d8cfdf4dc6ce8569ecae007278730e
DTSTAMP:20260423T162642Z
SUMMARY:Skandinávie - exportní strategie pro severské trhy
DESCRIPTION:Název akce: Skandinávie - exportní strategie pro severské t
 rhy\nURL: https://www.spcr.cz/skandinavie-exportni-strategie-pro-severske-
 trhy\nPopis: \n\nSeminář obsahuje praktické informace pro české expor
 téry zajímající se o skandinávský trh. Proběhne v Inovačním ce
 ntru Ústeckého kraje\, Ústí nad Labem\, Velká Hradební 54.Program ak
 ce\nBLOK 1 – Petra Jindrová\, ředitelka zahraniční kanceláře Czech
 Trade Skandinávie \n\nNordický region – obecné informace\nAktuální
  příležitosti na severských trzích\nPlánované prezentace českých 
 firem: veletrhy\, podnikatelské mise\nSpecifika navazování obchodní sp
 olupráce\nDotazy \n\nBLOK 2 – Vít Laštovka – marketingový konzul
 tant\, OGS Consulting OÜ\n\nStandardy firemní prezentace\, PR a dlouhod
 obé budování značky a vztahů na švédském trhu\nNavazování spolup
 ráce a budování vztahů prostřednictvím Linkedin a webových stránek
  (práce s klienty během a po veletrhu)\nPraktické kroky na vybudování
  důvěry ve firmu a její produkty v digitálním prostředí pomocí Lin
 kedin a webových stránek\nPřednáška s reálnými příklady digitáln
 í prezentace a PR strategie \nDotazy\n\n BLOK 3 – Individuální konz
 ultace \n\nRezervace konzultací je možná při registraci. V případě
  rezervace uveďte do poznámky\, s kým konkrétně máte o konzultaci z
 ájem. Účastníci\, kteří si konzultace rezervují\, budou mít před
 nost.\n\nVíce informací k akci včetně registrace naleznete zde. \n
URL:https://www.spcr.cz/skandinavie-exportni-strategie-pro-severske-trhy
DTSTART:20240528T130000
DTEND:20240528T160000
LOCATION:
END:VEVENT
END:VCALENDAR
