BEGIN:VCALENDAR
PRODID:-//eluceo/ical//2.0/EN
VERSION:2.0
CALSCALE:GREGORIAN
BEGIN:VEVENT
UID:2db4a3cda2e635ec364377e80d4d0e14
DTSTAMP:20260423T213044Z
SUMMARY:JAR a NIGÉRIE - jak na úspěšný export
DESCRIPTION:Název akce: JAR a NIGÉRIE - jak na úspěšný export\nURL: h
 ttps://www.spcr.cz/jar-nigerie-jak-na-uspesny-export\nPopis: \n\nAktuáln
 í exportní příležitosti na trzích Nigérie a Jihoafrické republiky
  a užitečné tipy z praxe pro české firmy představí na online semin
 áři ředitelé zahraničních kanceláří CzechTrade.Anotace:\n\nAktuá
 lní situace na trzích NIGÉRIE a JARU\nExportní příležitosti a možn
 osti expanze pro české firmy\nJak správně vyhledávat partnery a na co
  si dát pozor\nOptimální formy vstupu na daný trh\nStrategie vstupu na
  dané trhy\, překážky\, příležitosti a praktické tipy pro obchodov
 ání\nZkušenosti a časté chyby českých exportérů při exportu do t
 ěchto teritorií\nAsistence kanceláří CzechTrade v NIGÉRII a JARU\nO
 tázky a odpovědi\n\nObecné informace:\n\nDen před konáním akce Vám 
 e-mailem zašleme prolink k připojení na danou akci.\nK účasti na onl
 ine semináři potřebujete pouze PC\, notebook či telefon s internetový
 m připojením.\nAkce je ZDARMA.\nÚčastníci se mohou aktivně zapojit p
 rostřednictvím dotazů nebo být pasivními posluchači.\n\nVíce inform
 ací a registrace je k dispozici zde. \n
URL:https://www.spcr.cz/jar-nigerie-jak-na-uspesny-export
DTSTART:20240528T100000
DTEND:20240528T113000
LOCATION:
END:VEVENT
END:VCALENDAR
