BEGIN:VCALENDAR
PRODID:-//eluceo/ical//2.0/EN
VERSION:2.0
CALSCALE:GREGORIAN
BEGIN:VEVENT
UID:d7131f28adb837349556dcec22078b4b
DTSTAMP:20260423T130647Z
SUMMARY:Indonésie: Představení projektu výstavby nového hlavního měs
 ta Nusantara
DESCRIPTION:Název akce: Indonésie: Představení projektu výstavby nové
 ho hlavního města Nusantara\nURL: https://www.spcr.cz/indonesie-predstav
 eni-projektu-vystavby-noveho-hlavniho-mesta-nusantara\nPopis: \n\nHlavním
  cílem semináře je představit stávající ekonomickou situaci v Ind
 onésii a seznámit s projektem výstavby nového hlavního města včetn
 ě příležitostí pro české firmy.\nObsah semináře:\n1. Představen
 í základních informací o Indonésii\n2. Aktuální ekonomická situa
 ce a vývoj\n\nPřehled zajímavých oborů pro český export\nPříleži
 tosti pro české firmy\n\n3. Projekt nového hlavního města Nusantara\
 n\nVýznam projektu a jeho fáze\nInvestiční záměry\nMise českých f
 irem do města Nusantara\n\n4.  Otázky & Odpovědi\nCílová skupina: 
 zástupci českých firem se zájmem o indonéský trh a misi do nového h
 lavního města.Přednášející: Ing. Ivan Kameník\, Ph.D.\, ředitel
  zahraniční kanceláře CzechTrade JakartaObecné informace:\n\nSvé dot
 azy k tématu můžete zaslat před online seminářem prostřednictvím p
 řihlášky\, nebo prostřednictvím chatu na akci.\nDen před konáním a
 kce Vám e-mailem zašleme prolink na danou akci.\nK účasti na online se
 mináři potřebujete pouze PC\, notebook či telefon s internetovým při
 pojením.\nAkce je ZDARMA.\nÚčastníci se mohou aktivně zapojit prostř
 ednictvím dotazů nebo být pasivními posluchači\n\nLink k více inform
 acím a registraci zde. \n
URL:https://www.spcr.cz/indonesie-predstaveni-projektu-vystavby-noveho-hlav
 niho-mesta-nusantara
DTSTART:20240507T100000
DTEND:20240507T113000
LOCATION:
END:VEVENT
END:VCALENDAR
