BEGIN:VCALENDAR
PRODID:-//eluceo/ical//2.0/EN
VERSION:2.0
CALSCALE:GREGORIAN
BEGIN:VEVENT
UID:32d02adf09a7cb1be78b37d6c8f71538
DTSTAMP:20260423T193618Z
SUMMARY:Online seminář: Ukrajina – aktuální příležitosti pro česk
 é exportéry
DESCRIPTION:Název akce: Online seminář: Ukrajina – aktuální příle
 žitosti pro české exportéry\nURL: https://www.spcr.cz/online-seminar-u
 krajina-aktualni-prilezitosti-pro-ceske-exportery\nPopis: \n\nOnline semin
 ář: Ukrajina – aktuální příležitosti pro české exportéry\n\nOk
 sana Antonenko\, ředitelka zahraniční kanceláře CzechTrade v Kyjevě\
 nVojtěch Vraspír\, ředitel zahraniční kanceláře CzechTrade ve Lvov
 ě\n\nPraktické informace pro české exportéry zajímající se o ukraj
 inský trh\nAnalýza aktuální situace v zemi se zaměřením na současn
 é ekonomické klima na Ukrajině\nDopady války na český export a jedn
 otlivá odvětví místní ekonomiky\, analýza statistiky zahraničního 
 obchodu za loňský rok\nObory a projekty\, které jsou perspektivní pro 
 export z ČR\nPraktické tipy pro obchodování\, podnikání obchodních 
 cest\, organizace jednání s obchodními partnery\nInformace o státních
  iniciativách a programech na podporu podnikání v Ukrajině\n\nMonika 
 Šimůnková Hošková\, advokátka\, kancelář PETERKA & PARTNERS\n\nJak
  na zrušení\, založení podniku\, jmenování nového vedení v ukrajin
 ské pobočce v současné době.\nJak je třeba nahlásit škodu\, která
  vznikla firmě v důsledku válečných událostí?\nJaké jsou povinnost
 i zaměstnavatele\, pokud zaměstnanec narukoval do armády? Existuje mož
 nost „zabookovat“ zaměstnance ve výrobě?\nJak probíhají platby a 
 dodávky zboží ukrajinskému zákazníkovi\, jaké dodatečné podklady 
 vyžadují ukrajinské banky?\nJak mají postupovat čeští zakladatelé\
 , pokud sídlo firmy (majetek\, sklady) se nachází na okupovaném územ
 í?\nDalší důležité změny pro mezinárodní obchod a působení podn
 iků\, které vznikly v poslední době.\n\nRichard Benda\, předseda pře
 dstavenstva Enkom a.s.\n\nZkušenosti a příklady z praxe od úspěšné
 ho exportéra v oblasti energetického zařízení – vyhledání a real
 izace dodávek v době válečného stavu\, účast ve veřejných říze
 ních\, další specifika působení na trhu v současné situaci\, reali
 zace obchodních cest v Ukrajinu.\n\n \nDoplňující informace:\n\nDen p
 řed konáním akce Vám e-mailem zašleme prolink na danou akci.\nSvé do
 tazy k tématu můžete zaslat před online seminářem prostřednictvím 
 přihlášky\, nebo prostřednictvím chatu na akci.\nK účasti na online
  semináři potřebujete pouze PC\, notebook či telefon s internetovým p
 řipojením.\nAkce je ZDARMA.\nÚčastníci se mohou aktivně zapojit pros
 třednictvím dotazů nebo být pasivními posluchači.\n\nLink na akci a 
 registrace k dispozici zde. \n
URL:https://www.spcr.cz/online-seminar-ukrajina-aktualni-prilezitosti-pro-c
 eske-exportery
DTSTART:20240523T100000
DTEND:20240523T120000
LOCATION:
END:VEVENT
END:VCALENDAR
