BEGIN:VCALENDAR
PRODID:-//eluceo/ical//2.0/EN
VERSION:2.0
CALSCALE:GREGORIAN
BEGIN:VEVENT
UID:c078f80a3285809c648af3bf7dd20e44
DTSTAMP:20260423T130228Z
SUMMARY:Ochrana duševního vlastnictví na trzích jihovýchodní Asie
DESCRIPTION:Název akce: Ochrana duševního vlastnictví na trzích jihov
 ýchodní Asie\nURL: https://www.spcr.cz/ochrana-dusevniho-vlastnictvi-na-
 trzich-jihovychodni-asie\nPopis: \n\nPodmínkou úspěšného rozvoje firm
 y\, inovací nebo expanze na zahraniční trhy je adekvátní ochrana duš
 evního vlastnictví (IPR). Jak chránit logo\, značku\, technický vzor\
 , objev nebo inovace v zahraničí nebo jak zajistit ochranu inovací na z
 ahraničních veletrzích?Technologické centrum Praha v rámci aktivit s
 ítě Enterprise Europe Network ČR\, South-East Asia IP SME Helpdesk a ag
 entura CzechTrade připravily seminář věnovaný praktickým aspektům o
 chrany IPR zejména pro firmy\, které chtějí exportovat a uspět na trz
 ích zemí jihovýchodní Asie. Tento lidnatý a dynamicky se rozvíjejíc
 í region se v posledních letech stává významným cílem našich expor
 térů a nabízí i řadu dalších příležitostí pro podnikání.Progr
 am semináře bude věnován aktuální situaci v oblasti duševních a ze
 jména průmyslových práv v zemích jihovýchodní Asie a pomoci\, ktero
 u mohou české exportní společnosti (především MSP) získat v tomto 
 regionu. Řadu užitečných informací najdou i zájemci o zahraniční e
 xpanzi a ochranu svých inovativních výrobků v zahraničí všeobecně.
 \nProgram akce naleznete ZDE.\nÚčast na semináři je bezplatná.\nPod
 mínkou účasti je REGISTRACE.\nKontakt: Václav Suchý\, suchy@tc.cz\,
  tel. 728 082 895\n
URL:https://www.spcr.cz/ochrana-dusevniho-vlastnictvi-na-trzich-jihovychodn
 i-asie
DTSTART:20240521T000000
DTEND:20240521T235959
LOCATION:
END:VEVENT
END:VCALENDAR
