BEGIN:VCALENDAR
PRODID:-//eluceo/ical//2.0/EN
VERSION:2.0
CALSCALE:GREGORIAN
BEGIN:VEVENT
UID:0647f6ec1c5f059cfe8eb9ed19707bd7
DTSTAMP:20260423T125644Z
SUMMARY:Požární ochrana staveb - Hradec Králové
DESCRIPTION:Název akce: Požární ochrana staveb - Hradec Králové\nURL:
  https://www.spcr.cz/pozarni-ochrana-staveb-hradec-kralove\nPopis: \n\nKra
 jská hospodářská komora Královéhradeckého kraje a Svaz průmyslu a 
 dopravy ČR vás srdečně zvou na seminář\nPROGRAM:\n08:45 – 09:00 
 – Registrace účastníků09:00 – 09:05 – Úvodní slovo – zaháje
 ní\n09:05 – 10:30 – 1. část – Legislativa a obecná část – In
 g. Jan Šeliga- Legislativa normy a novelizace- Možnosti výkonu s OZO (s
 mlouva s klientem)- Rozsah činnosti OZO- Stavební dokumentace (obecně)\
 n10:30 – 10:45 – Coffee break\n10:45 – 12:15 – 2. část – Výko
 n OZO (odborně způsobilá osoba) – Ing. Jan Šeliga- Ověřená staveb
 ní dokumentace- Dokumentace PO- Kontrola PO – požární kniha\; náhra
 dní opatření- Jednání a stanoviska s HZS (proces získání)\n12:15 
 – 12:45 – Občerstvení\n12:45 – 13:45 – 3. část Výkon státní
 ho požárního dozoru – zástupce Hasičského záchranného sboru př
 íslušného kraje\, či hl. m. Prahy dle pozvánky- Průběh kontroly- Ne
 soulad skutečného stavu dokumentace – začlenění z hlediska PO\; vyh
 odnocení podmínek PO- Nejčastější závady při kontrolách HZS – r
 eálné příklady z kontrol\n13:45 – 14:00 – Diskuze\, závěr\nRegis
 trace zde\nCENA: 2900\,- Kč (+ DPH) / 2200\,- Kč (+ DPH) pro členy Kraj
 ské hospodářské komory KHK nebo Svazu průmyslu a dopravy ČR.\n
URL:https://www.spcr.cz/pozarni-ochrana-staveb-hradec-kralove
DTSTART:20240530T090000
DTEND:20240530T140000
LOCATION:
END:VEVENT
END:VCALENDAR
