BEGIN:VCALENDAR
PRODID:-//eluceo/ical//2.0/EN
VERSION:2.0
CALSCALE:GREGORIAN
BEGIN:VEVENT
UID:fd2e25e36e518e559059e94e5e2e35a8
DTSTAMP:20260423T145940Z
SUMMARY:Požární ochrana staveb - Praha
DESCRIPTION:Název akce: Požární ochrana staveb - Praha\nURL: https://ww
 w.spcr.cz/pozarni-ochrana-staveb-praha\nPopis: \n\nSvaz průmyslu a doprav
 y České republiky vás srdečně zve na seminář\nPROGRAM:\n08:45 – 0
 9:00 – Registrace účastníků09:00 – 09:05 – Úvodní slovo – za
 hájení\n09:05 – 10:30 – 1. část – Legislativa a obecná část 
 – Ing. Jan Šeliga- Legislativa normy a novelizace- Možnosti výkonu s 
 OZO (smlouva s klientem)- Rozsah činnosti OZO- Stavební dokumentace (obe
 cně)\n10:30 – 10:45 – Coffee break\n10:45 – 12:15 – 2. část –
  Výkon OZO (odborně způsobilá osoba) – Ing. Jan Šeliga- Ověřená 
 stavební dokumentace- Dokumentace PO- Kontrola PO – požární kniha\; 
 náhradní opatření- Jednání a stanoviska s HZS (proces získání)\n1
 2:15 – 12:45 – Občerstvení\n12:45 – 13:45 – 3. část Výkon st
 átního požárního dozoru – zástupce Hasičského záchranného sbor
 u příslušného kraje\, či hl. m. Prahy dle pozvánky- Průběh kontrol
 y- Nesoulad skutečného stavu dokumentace – začlenění z hlediska PO\
 ; vyhodnocení podmínek PO- Nejčastější závady při kontrolách HZS 
 – reálné příklady z kontrol\n13:45 – 14:00 – Diskuze\, závěr\n
 Registrace zde\nCENA: 2900\,- Kč (+ DPH) / 2200\,- Kč (+ DPH) pro členy
  SP ČR \n
URL:https://www.spcr.cz/pozarni-ochrana-staveb-praha
DTSTART:20240516T085000
DTEND:20240516T150000
LOCATION:
END:VEVENT
END:VCALENDAR
