BEGIN:VCALENDAR
PRODID:-//eluceo/ical//2.0/EN
VERSION:2.0
CALSCALE:GREGORIAN
BEGIN:VEVENT
UID:da39b263a22768b1930963ff1516b38c
DTSTAMP:20260423T125059Z
SUMMARY:Požární ochrana staveb - Liberec
DESCRIPTION:Název akce: Požární ochrana staveb - Liberec\nURL: https://
 www.spcr.cz/pozarni-ochrana-staveb-liberec\nPopis: \n\nOkresní hospodář
 ská komora Liberec\, Svaz průmyslu a dopravy České republiky a Spolek 
 pro rozvoj lidských zdrojů Liberec vás srdečně zvou na seminář\nPRO
 GRAM:\n08:45 – 09:00 – Registrace účastníků09:00 – 09:05 – Úv
 odní slovo – zahájení\n09:05 – 10:30 – 1. část – Legislativa 
 a obecná část – Ing. Jan Šeliga- Legislativa normy a novelizace- Mo
 žnosti výkonu s OZO (smlouva s klientem)- Rozsah činnosti OZO- Stavebn
 í dokumentace (obecně)\n10:30 – 10:45 – Coffee break\n10:45 – 12:1
 5 – 2. část – Výkon OZO (odborně způsobilá osoba) – Ing. Jan 
 Šeliga- Ověřená stavební dokumentace- Dokumentace PO- Kontrola PO –
  požární kniha\; náhradní opatření- Jednání a stanoviska s HZS (p
 roces získání)\n12:15 – 12:45 – Občerstvení\n12:45 – 13:45 – 
 3. část Výkon státního požárního dozoru – zástupce Hasičského
  záchranného sboru příslušného kraje\, či hl. m. Prahy dle pozvánk
 y- Průběh kontroly- Nesoulad skutečného stavu dokumentace – začlen
 ění z hlediska PO\; vyhodnocení podmínek PO- Nejčastější závady p
 ři kontrolách HZS – reálné příklady z kontrol\n13:45 – 14:00 –
  Diskuze\, závěr\nRegistrace zde\nCENA: 2900\,- Kč (+ DPH) / 2200\,- K
 č (+ DPH) pro členy Krajské hospodářské komory KHK\, OHK Liberec\, S
 P ČR nebo Spolku pro rozvoj lidských zdrojů Liberec\n
URL:https://www.spcr.cz/pozarni-ochrana-staveb-liberec
DTSTART:20240605T084500
DTEND:20240605T120000
LOCATION:
END:VEVENT
END:VCALENDAR
