BEGIN:VCALENDAR
PRODID:-//eluceo/ical//2.0/EN
VERSION:2.0
CALSCALE:GREGORIAN
BEGIN:VEVENT
UID:d3432915e93408a1f4eb3b607a5e212d
DTSTAMP:20260423T125316Z
SUMMARY:CCCME Business Networking Event
DESCRIPTION:Název akce: CCCME Business Networking Event\nURL: https://www.
 spcr.cz/cccme-business-networking-event\nPopis: \n\nDear Friends\,\nA Chin
 ese business delegation\, organized by the China Chamber of Commerce for I
 mport and Export of Machinery and Electronic Products (CCCME)\, will visit
  Prague to explore trade and investment opportunities with local businesse
 s. You are cordially invited to a China-Czech business networking event to
  be held in Prague.\nDate: May 9th\, 2024\nVenue: Nekázanka 858/5\, 110 0
 0 Nové Město (Entrance at intersection of Nekázanka and Na Příkopě)\
 nAgenda: 10:00 – 10:40 Opening Remarks 10:40 – 11:00 Coffee Break 11:0
 0 – 12:30 Business Networking 12:30 – 13:30 Buffet Lunch\nOrganizers:\
 n\nChina Chamber of Commerce for Import and Export of Machinery and Electr
 onic Products\nConfederation of Industry of the Czech Republic\nAssociatio
 n of Engineering Technology\nAssociation of China-invested Enterprises in 
 the Czech Republic\n\nFor more information and registration directly conta
 ct Mr. Zhou Jiawei from the Chinese Embassy in Prague via email (cz@mofcom
 .gov.cn) with the attached registration form before 6 th May 2024. List of
  Chinese delegation participants can be found here. We look forward to see
 ing you at the event.\n \n
URL:https://www.spcr.cz/cccme-business-networking-event
DTSTART:20240509T100000
DTEND:20240509T133000
LOCATION:
END:VEVENT
END:VCALENDAR
