BEGIN:VCALENDAR
PRODID:-//eluceo/ical//2.0/EN
VERSION:2.0
CALSCALE:GREGORIAN
BEGIN:VEVENT
UID:ec3dcd3097b684edcbb5b2f11272f7f2
DTSTAMP:20260423T150144Z
SUMMARY:Investiční konference EU-Egypt
DESCRIPTION:Název akce: Investiční konference EU-Egypt\nURL: https://www
 .spcr.cz/investicni-konference-eu-egypt\nPopis: \n\nRádi bychom Vás info
 rmovali o tom\, že ve dnech 29. a 30. června 2024 se v Káhiře uskuteč
 ní dlouho očekávaná investiční konference mezi Egyptem a EU\, na ní
 ž potvrdila účast i předsedkyně Evropské komise Ursula von der Leyen
  a egyptský prezident Abd al-Fattáh as-Sísí. Konference by se mělo z
 účastnit až několik set firem z EU\, které mají vážný zájem na i
 nvestování v Egyptě\, zakládání joint-ventures apod.\nRegistrace na 
 konferenci se provádějí online prostřednictvím webu https://invegyeu.
 com/. Zároveň sdílíme pár užitečných informací: \n\nkonference m
 á být zaměřená hlavně (nikoli však výhradně) na malé a střední
  podniky\ncca 2 týdny před konferencí obdrží firmy link\, kde se budo
 u moci zaregistrovat na bilaterální B2B (případně i B2G) schůzky s k
 onkrétními firmami/institucemi\, o které mají zájem\norganizátoři d
 ají během několika týdnů dohromady seznam zcela konkrétních investi
 čních příležitostí\, který bude posléze dostupný online\nbude tak
 é vytvořen uživatelsky přívětivý 10-15stránkový "fact pack" pro p
 otenciální investory\n\nOndřej Cuchý Counsellor - Head of Economic and
  Trade Section Embassy of the Czech Republic in Cairo 4\, Dokki Street\, 1
 2511 Giza\, Cairo\, Arab Republic of Egypt  Tel.: +20 2 333 39 709 Mob.: +
 20 122 212 5172 E-mail: ondrej.cuchy@mzv.gov.cz\, www.mzv.gov.cz/cairo\n
URL:https://www.spcr.cz/investicni-konference-eu-egypt
DTSTART:20240629T080000
DTEND:20240630T170000
LOCATION:
END:VEVENT
END:VCALENDAR
