BEGIN:VCALENDAR
PRODID:-//eluceo/ical//2.0/EN
VERSION:2.0
CALSCALE:GREGORIAN
BEGIN:VEVENT
UID:00b5bc7390b46120187163580f1fd33e
DTSTAMP:20260423T145913Z
SUMMARY:Business Forum – Driving Innovation: současnost a budoucnost mob
 ility
DESCRIPTION:Název akce: Business Forum – Driving Innovation: současnost
  a budoucnost mobility\nURL: https://www.spcr.cz/business-forum-driving-in
 novation-soucasnost-budoucnost-mobility\nPopis: \n\nItalsko-české busine
 ss forum zaměřené na trendy a výzvy sektoru mobility\, se bude konat 
 30. května 2024 v prostorách Parlamentu.\nBusiness Forum je organizovan
 é ve spolupráci s Českým a Italským parlamentem\, Italskou ambasádou
 \, ICE\, Svazem průmyslu a dopravy ČR\, Italskou Confindustrií a Inteso
 u San Paolo. Jedná se o jedinečné setkání českých a italských fire
 m a institucí za účelem rozvoje komerčních vztahů mezi Itálií a Č
 eskou republikou.\nSetkání a tematické panelové diskuze oživí italš
 tí a čeští řečníci\, kteří jsou odborníky v oboru\, a nabídnou 
 tak jedinečnou příležitost prozkoumat klíčové otázky v oblasti mo
 bility.\nPodrobnosti k business fóru najdete na webu Italsko-české obc
 hodní a průmyslové komory.\nRegistrujte se prosím do 23. května přes
  on-line formulář.\nPro více informací kontaktujte: Zuzana Slamková\
 , projectmanager@camic.cz / 725 569 135\n
URL:https://www.spcr.cz/business-forum-driving-innovation-soucasnost-budouc
 nost-mobility
DTSTART:20240530T093000
DTEND:20240530T123000
LOCATION:
END:VEVENT
END:VCALENDAR
