BEGIN:VCALENDAR
PRODID:-//eluceo/ical//2.0/EN
VERSION:2.0
CALSCALE:GREGORIAN
BEGIN:VEVENT
UID:78181a739912a4fa81e7714305bd50ec
DTSTAMP:20260423T150145Z
SUMMARY:2024 Taichung International Tea\, Coffee and Bakery Show
DESCRIPTION:Název akce: 2024 Taichung International Tea\, Coffee and Baker
 y Show\nURL: https://www.spcr.cz/2024-taichung-international-tea-coffee-an
 d-bakery-show\nPopis: \n\nDovolujeme si Vás pozvat na mezinárodní velet
 rh 2024 Taichung International Tea\, Coffee and Bakery Show\, který se bu
 de konat v Taichung International Exhibition Center od 12. července do 15
 . července 2024. Veletrh je zaměřen na čajové výrobky a vybavení\, 
 kávové výrobky a vybavení\, pekařské přísady\, výrobky a vybaven
 í\, mrazicí a cateringové vybavení a další potraviny a nápoje.\nAkt
 uální informace naleznete na oficiálníh webových stránkách: https:/
 /www.tcfb.com.tw/en/index.html .\nNa podporu účasti na tomto veletrhu je
  Tchajpejskou hospodářskou a kulturní kanceláří v Praze nabízen pob
 ídkový balíček. Upozorňujeme\, že nabídka platí do vyčerpání fi
 nančního rozpočtu a balíček je poskytován podle pořadí přijetí p
 řihlášky.\nPro registraci a podání pobídkové přihlášky vyplňte 
 formulář "company profile" a zašlete jej na emailovou adresu czech@sa.m
 oea.gov.tw nebo cztwec01@sa.moea.gov.tw .\nPro další informace neváhejt
 e kontaktovat paní Terezu Šafářovou z Tchajpejské hospodářské a ku
 lturní kanceláře v Praze\, Tel.: (+420) 234 722 021\, email viz výše.
  \n
URL:https://www.spcr.cz/2024-taichung-international-tea-coffee-and-bakery-s
 how
DTSTART:20240712T000000
DTEND:20240715T235959
LOCATION:
END:VEVENT
END:VCALENDAR
