BEGIN:VCALENDAR
PRODID:-//eluceo/ical//2.0/EN
VERSION:2.0
CALSCALE:GREGORIAN
BEGIN:VEVENT
UID:d9fa44f586fb9b0c2032bf6bb411b063
DTSTAMP:20260423T163342Z
SUMMARY:Výroční konference Národního plánu obnovy
DESCRIPTION:Název akce: Výroční konference Národního plánu obnovy\nU
 RL: https://www.spcr.cz/vyrocni-konference-narodniho-planu-obnovy\nPopis: 
 \n\n\n
URL:https://www.spcr.cz/vyrocni-konference-narodniho-planu-obnovy
DTSTART:20240516T090000
DTEND:20240516T170000
LOCATION:
END:VEVENT
END:VCALENDAR
