BEGIN:VCALENDAR
PRODID:-//eluceo/ical//2.0/EN
VERSION:2.0
CALSCALE:GREGORIAN
BEGIN:VEVENT
UID:844912f85fab694d0625a2033b4239cb
DTSTAMP:20260423T145026Z
SUMMARY:Zaměstnávání cizinců
DESCRIPTION:Název akce: Zaměstnávání cizinců\nURL: https://www.spcr.c
 z/zamestnavani-cizincu\nPopis: \n\nSvaz průmyslu a dopravy ČR si Vás v
  rámci projektu „Podpora národního\, odvětvového a regionálního 
 sociálního dialogu v ČR“ dovoluje pozvat na diskusní fórum\nZAMĚST
 NÁVÁNÍ CIZINCŮ\n21. května 2024\, 10:00 – 13:00 hodInovační centr
 um Ústeckého kraje (ICUK) - Velká hradební 2800\, 400 01 Ústí nad L
 abem\nPROGRAM\n Tereza Hejlová\, MBA – Svaz průmyslu a dopravy ČR\, 
 Zaměstnavatelská sekce\n\nProgramy ekonomické migrace\nProgram kvalifik
 ovaný zaměstnanec ostatní státy – Mongolsko\, Filipíny\, Indie aj.\
 nProgram Ukrajina – nové od 1.1.2024\nzaměstnávání cizinců v obla
 sti legislativy – na čem se pracuje\n\nGabriela Beranová\, Ing. Jarosl
 av Kunc – Úřad práce ČR\, Krajská pobočka v Ústí nad Labem\n\nP
 odmínky zaměstnávaní cizinců\nZměny u informační povinnosti při z
 aměstnávání občanů EU\nZaměstnávání osob s dočasnou ochranou\n
 \nČasový harmonogram\n09:30 – 10:00    Prezence\n10:00 – 13:00  
   Informační blok a diskuze\nRegistrace\n\nNa setkání se prosím při
 hlaste přes registrační formulář nejpozději do 17. května 2024.\n\n
 Kontakt\n\nV případě dotazů se prosím obraťte na regionální manaž
 erku SP ČR pro Ústecký a Karlovarský kraj Ing. Radku Bartíkovou (rbar
 tikova@spcr.cz).\n
URL:https://www.spcr.cz/zamestnavani-cizincu
DTSTART:20240521T100000
DTEND:20240521T130000
LOCATION:
END:VEVENT
END:VCALENDAR
