BEGIN:VCALENDAR
PRODID:-//eluceo/ical//2.0/EN
VERSION:2.0
CALSCALE:GREGORIAN
BEGIN:VEVENT
UID:561b828af121e953d7390348810de78b
DTSTAMP:20260423T125536Z
SUMMARY:8th Meeting of the China-CEEC Business Council
DESCRIPTION:Název akce: 8th Meeting of the China-CEEC Business Council\nU
 RL: https://www.spcr.cz/8th-meeting-china-ceec-business-council\nPopis: \n
 \nTo further promote economic and trade cooperation between China and CEE 
 countries\, the 8th Meeting of the China-CEEC Business Council will be h
 eld from 22th-24th May during the period of China-CEEC Week Ningbo 2024. O
 ur member companies are invited to join the event. A draft agenda is encl
 osed for your reference here.\nThe organizer would offer 3-night accommod
 ation as well as shuttle transportation in Ningbo during the meeting fo
 r our member companies.\nIf you are interested\, you can directly contact:
 \n柴培\nMs. Chai Pei（Estrella）\n双边合作部\nDepartment of  Bil
 ateral Cooperation\nTEL: （+86）010-86431011\nE-mail: chaipei@ccoic.cn
 \n                                                
                                                  
                                       \n中国国际
 商会\nChina Chamber of International Commerce\n地址：北京市西城
 区桦皮厂胡同2号国际商会大厦10层\n邮编：100035\nAdd: 10F\,
  CCOIC Building\, No.2 Huapichang Hutong\, Xicheng District\, Beijing\, Ch
 ina\nPost Code: 100035\nWebsite: www.ccoic.cn\n
URL:https://www.spcr.cz/8th-meeting-china-ceec-business-council
DTSTART:20240522T000000
DTEND:20240524T235959
LOCATION:
END:VEVENT
END:VCALENDAR
