BEGIN:VCALENDAR
PRODID:-//eluceo/ical//2.0/EN
VERSION:2.0
CALSCALE:GREGORIAN
BEGIN:VEVENT
UID:1321f68bfe665eeb470664206e5f0fab
DTSTAMP:20260423T145939Z
SUMMARY:Food Taipei Mega Shows 2024
DESCRIPTION:Název akce: Food Taipei Mega Shows 2024\nURL: https://www.spcr
 .cz/food-taipei-mega-shows-2024\nPopis: \n\nDovolujeme si Vás pozvat na F
 ood Taipei Mega Shows 2024\, které se konají v Taipei Nangang Exhibition
  Center od 26. června do 29. června 2024. Souběžně se zde konají vel
 etrhy\, které se zaměřují na různé oblasti potravinářského průmy
 slu. Aktuální informace naleznete na jejich příslušných webových st
 ránkách.\nFOOD TAIPEI (Mezinárodní potravinářská výstava v Tchajp
 eji) s následujícím zaměřením:čerstvé ovoce a zelenina\, konzervov
 ané ovoce a zelenina\, drůbež\, mořské plody\, maso a zpracované mas
 né výrobky\, jedlé oleje\, mléčné výrobky\, biopotraviny a vegetari
 ánské potraviny\, mražené polotovary\, konzervované potraviny\, peče
 né potraviny\, sušenky\, víno a likéry\, káva a čaj\, džusy a nealk
 oholické nápoje\, ochucovadla (koření\, omáčky) a cukrovinky\, zmrzl
 ina.https://www.foodtaipei.com.tw/en/index.html\n FOODTECH TAIPEI (Mezin
 árodní výstava potravinářských strojů v Tchajpeji) s následující
 m zaměřením:\nzařízení\, komponenty a technologie pro zpracování a
  skladování potravin a nápojů\nhttps://www.foodtech.com.tw/en/index.ht
 ml\nTAIPEI PACK (Mezinárodní výstava obalového průmyslu v Tchajpeji) 
 s následujícím zaměřením:\nbalicí stroje a materiály\, plnicí/tě
 snicí/vážicí stroje\, zařízení pro kontrolu materiálu\, vakuové b
 alicí stroje\, papírové a kartonové obaly\nhttps://www.taipeipack.com.
 tw/en/index.html\nTAIWAN HORECA (Mezinárodní výstava hotelů\, restaura
 cí a cateringu na Tchaj-wanu) s následujícím zaměřením:\nzařízen
 í a příslušenství pro stravování v hotelech a restauracích\, zař
 ízení pro likvidaci a sanitaci v potravinářském průmyslu\, nádobí 
 a kuchyňské potřeby\, pokladní/objednávkový systém pro restaurace\,
  vybavení a služby prádelen\, chladicí zařízení\, chytré gastronom
 ické vybavení\nhttps://www.taiwanhoreca.com.tw/en/index.html\nNa podporu
  účasti na těchto veletrzích Tchajpejská hospodářská a kulturní k
 ancelář v Praze nabízí pobídkové balíčky. Upozorňujeme\, že nab
 ídky platí do vyčerpání finančního rozpočtu a balíčky jsou posky
 továny podle pořadí přijetí přihlášky.\nPro registraci a podání 
 pobídkové přihlášky vyplňte prosím přiložený formulář "company
  profile" a zašlete jej na emailovou adresu czech@sa.moea.gov.tw nebo czt
 wec01@sa.moea.gov.tw .\nCompany_Profile_FOOD_TAIPEI_2024.docx\nCompany_Pro
 file_FOODTECH_TAIPEI_2024.docx\nCompany_Profile_TAIPEI_PACK_2024.docx\nCom
 pany_Profile_TAIWAN_HORECA_2024.docx\nPro další informace se můžete ob
 rátit na paní Terezu Šafářovou\, Tchajpejská hospodářská a kultur
 ní kancelář v Praze\, Tel.: (+420) 234 722 021\, emailové kontakty vý
 še. \n
URL:https://www.spcr.cz/food-taipei-mega-shows-2024
DTSTART:20240626T000000
DTEND:20240629T235959
LOCATION:
END:VEVENT
END:VCALENDAR
