BEGIN:VCALENDAR
PRODID:-//eluceo/ical//2.0/EN
VERSION:2.0
CALSCALE:GREGORIAN
BEGIN:VEVENT
UID:19ff6c02a870a8d20019d952aff05006
DTSTAMP:20260423T125131Z
SUMMARY:HANNOVER MESSE 2024
DESCRIPTION:Název akce: HANNOVER MESSE 2024\nURL: https://www.spcr.cz/hann
 over-messe-2024\nPopis: \n\nZveme vás k návštěvě mezinárodního vel
 etrhu HANNOVER MESSE\, na kterém představí v termínu od 22. do 26. du
 bna 2024 přes 4000 firem novinky a inovace z oblasti strojírenství\, el
 ektrotechniky\, digitálního průmyslu a energetiky.\nNa přehledný kata
 log všech vystavovatelů a jejich produktů se již nyní můžete podív
 at na domovské stránce veletrhu v sekci Exhibitors & Products.\nSamozř
 ejmě žádný katalog nenahradí ukázku „na živo“\, na základě na
 ší spolupráce s pořadatelem veletrhu\, Vám můžeme nabídnout vstup
 enku na veletrh zdarma. Permanentku získáte registrací e-kódu CP9rC na
  webu pořadatele https://www.hannovermesse.de/en/application/registratio
 n/ticket-registration.\nSeznam výzev pro průmysl je dlouhý: geopolitick
 é napětí\, klimatické změny\, stagnující růst\, vysoké ceny energ
 ií\, nedostatek kvalifikované pracovní a mnohé další. K tomu se př
 idává ještě umělá inteligence\, která svět práce v průmyslu zá
 sadně mění. V Hannoveru budou představeny technologie a řešení\, 
 které umožňují průmyslu vyrábět konkurenceschopně a udržitelně.
  Veletrh je zaměřen na inteligentní a CO2 neutrální výrobu\, umělo
 u inteligenci\, vodík a meziodvětvová energetická řešení.\nMezi vy
 stavujícími společnostmi jsou globální technologičtí giganti\, ale
  také středně velké a malé podniky a více než 300 průmyslových 
 start-upů. Česká republika je zastoupena 23 vystavovateli\, jejich vý
 čet včetně informace o umístění naleznete níže.\nHANNOVER MESSE je
  přední světový průmyslový veletrh. Jeho hlavní téma „Energizing
  a Sustainable Industry“ (Nabudit udržitelný průmysl)\, sdružuje vys
 tavující firmy z oblasti strojírenství\, elektrotechniky\, digitáln
 ího průmyslu a energetiky\, které představují řešení pro výrobu 
 a dodávky energie budoucnosti. Mezi hlavní témata patří Průmysl 4.
 0/Manufacturing‑X\, energie pro průmysl\, digitalizace/umělá intelige
 nce a strojové učení\, CO2 neutrální výroba\, vodík a palivové 
 články. Program doplňují konference a fóra. Veletrh se koná na výs
 tavišti v Hannoveru od 22. do 26. dubna 2024. Partnerskou zemí je Norsk
 o.\nV případě dotazů k veletrhu či registraci přiloženého kódu 
 kontaktujte výhradní zastoupení pořadatele veletrhu HANNOVER MESSE v 
 ČR\, společnost PROveletrhy plus\, info@proveletrhy.cz\n
URL:https://www.spcr.cz/hannover-messe-2024
DTSTART:20240422T000000
DTEND:20240426T235959
LOCATION:
END:VEVENT
END:VCALENDAR
