BEGIN:VCALENDAR
PRODID:-//eluceo/ical//2.0/EN
VERSION:2.0
CALSCALE:GREGORIAN
BEGIN:VEVENT
UID:d06676c9a9973cb6a9a6383aad361c7e
DTSTAMP:20260423T162959Z
SUMMARY:International Salon for Digital Transformation\, Startups\, and Tec
 hnology in Africa 
DESCRIPTION:Název akce: International Salon for Digital Transformation\, S
 tartups\, and Technology in Africa \nURL: https://www.spcr.cz/internationa
 l-salon-digital-transformation-startups-and-technology-africa\nPopis: \n\n
 Dovolujeme si vás pozvat na International Salon for Digital Transformatio
 n\, Startups\, and Technology in Africa and the Middle East (také známy 
 pod názvem "BIGTECH")\, který se bude konat od 26. do 29. června 2024 n
 a výstavišti Kram Tunis v Tunisku.\nTato akce bude věnována tématu Ar
 tificial Intelligence and Comprehensive Digital Transformation (umělá in
 teligence a komplexní digitální transformace).\nCílem veletrhu je vytv
 ářet sítě mezi aktéry v oblasti technologií\, průmyslníky\, invest
 ory\, nově vznikajícími institucemi a národními a mezinárodními org
 anizacemi.Očekává se\, že se tohoto zasedání zúčastní více než 
 300 vystavovatelů a 20 000 návštěvníků z mnoha zemí a bude uspořá
 dáno přes 130 seminářů\, panelových diskuzí a workshopů\, pět par
 alelních akcí\, zejména osmé zasedání the Tunisia Digital Summit (tu
 niský digitální summit)” a třetí ročník the Africa Start-up Summ
 it (Africký Start-up Summitu).Další informace o této události nalezne
 te na webových stránkách pořadatele BIGTECH AFRICA nebo v oficiální
 ch dokumentech níže. \nV případě zájmu nebo dotazů nás prosím ne
 váhejte kontaktovat: mnatafalusi@spcr.cz\nBIGTECH_2024-Co-located_events.
 pdf\nPlaquette_BIGTECH_ENG.pdf\nBIGTECH_KPI_chiffres.pdf\nConcept_Note_BIG
 TECH.pdf\n
URL:https://www.spcr.cz/international-salon-digital-transformation-startups
 -and-technology-africa
DTSTART:20240626T080000
DTEND:20240629T170000
LOCATION:
END:VEVENT
END:VCALENDAR
