BEGIN:VCALENDAR
PRODID:-//eluceo/ical//2.0/EN
VERSION:2.0
CALSCALE:GREGORIAN
BEGIN:VEVENT
UID:f45f3353eca2a3f39f191e2fc874d2bf
DTSTAMP:20260423T125523Z
SUMMARY:Setkání podnikatelů a andělských investorů
DESCRIPTION:Název akce: Setkání podnikatelů a andělských investorů\n
 URL: https://www.spcr.cz/setkani-podnikatelu-andelskych-investoru\nPopis: 
 \n\nDovolujeme si vás informovat\, že Ministerstvo obchodu Turecké rep
 ubliky organizuje "Setkání podnikatelů a andělských investorů" (Ent
 repreneurship and Angel Investor Meeting)\, které se bude konat v Istanb
 ulu dne 23. května 2024 s cílem shromáždit mezinárodní andělské 
 investory a podnikatele s novými podnikatelskými nápady. Na schůzce pr
 oběhne také tisková konference k zahájení propagace „Platformy sí
 tě andělských investorů“.\nNa akci\, kde se sejdou místní i mezin
 árodní andělští investoři\, start-up centra z Turecka\, podnikatelé
 \, vysocí manažeři příslušných veřejných institucí a nevládníc
 h organizací\, akademici a zástupci médií\, jsou zváni ministři a ma
 nažeři mezinárodních fondů z mnoha zemí.\nPokud máte zájem o prog
 ram\, jehož podrobnosti jsou uvedeny v dokumentech zde a zde\, prosíme V
 ás\, abyste kontaktovali Tureckou ambasádu v Praze přímo na e-mailové
  adrese prag@ticaret.gov.tr nejpozději do 25. dubna 2024. \n
URL:https://www.spcr.cz/setkani-podnikatelu-andelskych-investoru
DTSTART:20240523T090000
DTEND:20240523T170000
LOCATION:
END:VEVENT
END:VCALENDAR
