BEGIN:VCALENDAR
PRODID:-//eluceo/ical//2.0/EN
VERSION:2.0
CALSCALE:GREGORIAN
BEGIN:VEVENT
UID:03d3498e8c0ba813bf60353bf7dad67a
DTSTAMP:20260423T125654Z
SUMMARY:Pozvánka na GreenTech Global Forum v Římě
DESCRIPTION:Název akce: Pozvánka na GreenTech Global Forum v Římě\nURL
 : https://www.spcr.cz/pozvanka-na-greentech-global-forum-v-rime\nPopis: \n
 \nDovolujeme si Vás informovat o konání mezinárodního business fóra 
 "GreenTech Global Forum"\, která se uskuteční ve dnech 16. - 17. 9. 202
 4 v Římě. Akce\, která se koná pod záštitou italského ministerstva
  zahraničních věcí a dalších institucí\, se účastní zástupci pr
 ůmyslových klastrů\, velkých společností\, investičních fondů\, r
 ozvojových agentur i ekonomičtí diplomaté.\nFórum je zaměřeno na ob
 last energetiky a smart cities – především na špičkové technologie
 \, zelenou energetiku\, e-mobilitu\, cirkulární ekonomiku a služby pro 
 občany. Na programu budou diskusní panely\, workshopy a networkingová s
 etkání\, na nichž budou mít účastníci možnost představit své pro
 jekty. Akce se mj. zúčastní velké italské firmy v oblasti energetiky\
 , včetně ENI a ENEL\, mobility a smart cities.\nZájemci z řad český
 ch firem mohou adresovat své dotazy v angličtině nebo češtině na pan
 a Andreu Romagnoli\, email: A.Romagnoli@lazioinnova.it\, z Lazio Innoa\, 
 spoluorganizátora akce.\n
URL:https://www.spcr.cz/pozvanka-na-greentech-global-forum-v-rime
DTSTART:20240916T080000
DTEND:20240917T170000
LOCATION:
END:VEVENT
END:VCALENDAR
