BEGIN:VCALENDAR
PRODID:-//eluceo/ical//2.0/EN
VERSION:2.0
CALSCALE:GREGORIAN
BEGIN:VEVENT
UID:2d55b0d25282dfb13beca9670e094eb2
DTSTAMP:20260423T124857Z
SUMMARY:Euro očima českého businessu
DESCRIPTION:Název akce: Euro očima českého businessu\nURL: https://www.
 spcr.cz/euro-ocima-ceskeho-businessu\nPopis: \n\nZveme vás na konferenci 
 k euru\, kterou SP ČR pořádá společně s Vysokou školou ekonomickou
  v Praze.\n\nV průběhu konference se můžete těšit na dva diskusní 
 panely\, které zajímavou formou propojí akademickou a byznysovou sféru
  a přinesou jejich společný pohled na otázku možného přijetí eura 
 v České republice. Z úst odborníků se dozvíte\, jaké podmínky mu
 sí Česko splnit\, aby o přijetí jednotné evropské měny mohlo vůbec
  uvažovat\, a díky čerstvým datům z průzkumu Svazu průmyslu budete
  znát aktuální postoj podnikatelů k euru.  \nOd 17 hodin se pak mů
 žete těšit na neformální networking a číši vína.\nREGISTRACE\n\nV
 stup na konferenci je zdarma\, je ale nutné se předem registrovat přes 
 on-line formulář.\n\nKONTAKT\n\nIng. Irena Havířová (ihavirova@spcr.c
 z).\n\nTěšíme se na společné setkání! \n
URL:https://www.spcr.cz/euro-ocima-ceskeho-businessu
DTSTART:20240523T140000
DTEND:20240523T180000
LOCATION:
END:VEVENT
END:VCALENDAR
