BEGIN:VCALENDAR
PRODID:-//eluceo/ical//2.0/EN
VERSION:2.0
CALSCALE:GREGORIAN
BEGIN:VEVENT
UID:259771155c99d319e8cb097ba2ad9d74
DTSTAMP:20260423T162802Z
SUMMARY:Dialogue on the CETA ex-post evaluation
DESCRIPTION:Název akce: Dialogue on the CETA ex-post evaluation\nURL: http
 s://www.spcr.cz/dialogue-ceta-ex-post-evaluation\nPopis: \n\nCivil Society
  Dialogue on the CETA ex-post evaluation\nThe purpose of this meeting is t
 o inform the EU’s civil society partners about the inception report from
  the study on the ex-post evaluation of the Comprehensive Economic and Tra
 de Agreement between the EU and Canada.\nRegistration link and more inform
 ation here. \n
URL:https://www.spcr.cz/dialogue-ceta-ex-post-evaluation
DTSTART:20240418T150000
DTEND:20240418T170000
LOCATION:
END:VEVENT
END:VCALENDAR
