BEGIN:VCALENDAR
PRODID:-//eluceo/ical//2.0/EN
VERSION:2.0
CALSCALE:GREGORIAN
BEGIN:VEVENT
UID:a4269bcc46eda230d4b1ff37a1bb62b1
DTSTAMP:20260423T150324Z
SUMMARY:AI a odpovědnost
DESCRIPTION:Název akce: AI a odpovědnost\nURL: https://www.spcr.cz/ai-odp
 ovednost\nPopis: \n\nPlatforma AI uspořádá sérii workshopů pod hlavi
 čkou eDIH „Nebojme se legislativy v oblasti AI“. Jednotlivými tém
 aty Vás provedou významné advokátní kanceláře KPMG Legal a HAVEL & 
 PARTNERS. Věříme\, že Vám tyto workshopy pomohou lépe se orientovat 
 v právní úpravě AI\, a to i s ohledem na unijní nařízení AI Act 
 – první komplexní harmonizovaná pravidla pro umělou inteligenci. Prv
 ní workshop „AI a odpovědnost“ zaměřený i na škodu způsobenou A
 I se koná 25.dubna 2024 od 10:00 v prostorách advokátní kanceláře HA
 VEL & PARTNERS v Praze. Pokud se nebudete moci zúčastnit osobně\, nabí
 zíme i možnost vzdáleného připojení. Předpokládaná doba trvání 
 workshopu je 1\,5 hodiny včetně bloku otázek a odpovědí. Workshop je 
 určen pro zástupce z veřejného a soukromého sektoru\, primárně pro 
 dodavatele a tvůrce systémů AI\, startupy a začínající podnikatele\
 , včetně uživatelů těchto systémů mimo poradenské společnosti. Sv
 oji účast na workshopu prosím potvrďte nejpozději do 21.4.2024.\nRegi
 strujte se prosím skrze leták v příloze.\n \n
URL:https://www.spcr.cz/ai-odpovednost
DTSTART:20240425T100000
DTEND:20240425T113000
LOCATION:
END:VEVENT
END:VCALENDAR
