BEGIN:VCALENDAR
PRODID:-//eluceo/ical//2.0/EN
VERSION:2.0
CALSCALE:GREGORIAN
BEGIN:VEVENT
UID:fcabc51c44304de58c90104472a346f0
DTSTAMP:20260423T124850Z
SUMMARY:Malajsie - veletrh MIHAS
DESCRIPTION:Název akce: Malajsie - veletrh MIHAS\nURL: https://www.spcr.cz
 /malajsie-veletrh-mihas\nPopis: \n\nDovolujeme si Vám předat pozvání M
 alajsijské agentury na podporu exportu (MATRADE) na veletrh MIHAS 2024\, 
 který se uskuteční od 17. do 20. září 2024 ve spolupráci s malajsij
 ským Ministerstvem Investic\, obchodu a průmyslu. \nMIHAS - Malaysia In
 ternational Halal Showcase představuje program pro internacionalizaci pro
 duktů a služeb Halal a postavení Malajsie jako předního Halal centra 
 na světě. Program nabízí bohaté příležitosti zahraničním společ
 nostem\, vytváření sítí se společnostmi zaměřeními na Halal Indus
 try a v neposlední řadě generování prodejních příležitostí od me
 zinárodních kupujících.\nV případě zájmu o další informace konta
 ktujte pana Badrum Hishal Hilal na emailu badrul.h@matrade.gov.my nebo pa
 ní Nuryati Idzfa Zakaria nuryati@matrade.gov.my. \n
URL:https://www.spcr.cz/malajsie-veletrh-mihas
DTSTART:20240917T000000
DTEND:20240920T235959
LOCATION:
END:VEVENT
END:VCALENDAR
