BEGIN:VCALENDAR
PRODID:-//eluceo/ical//2.0/EN
VERSION:2.0
CALSCALE:GREGORIAN
BEGIN:VEVENT
UID:a69454204968befa30f5f3a40501d3f0
DTSTAMP:20260423T145025Z
SUMMARY:2024 Medical Taiwan
DESCRIPTION:Název akce: 2024 Medical Taiwan\nURL: https://www.spcr.cz/2024
 -medical-taiwan\nPopis: \n\nDovolujeme si vás informovat o 2024 Medical T
 aiwan\, které se bude konat na výstavišti Taipei Nangang od 20. června
  do 22. června 2024. \nMedical Taiwan je přední globální obchodní a 
 marketingová platforma pro domácí i mezinárodní výrobce zdravotnick
 ého vybavení. Představuje profesionální asistenční zařízení\, di
 gitální zdravotní péči\, lékařská zařízení a vybavení\, léka
 řské díly a zásoby\, lékařské materiály a lékařské služby. Let
 os se veletrh zaměřuje na péči o všechny věkové kategorie a chytrou
  medicínu.\nPodrobné informace naleznete na tomto odkaze. \n
URL:https://www.spcr.cz/2024-medical-taiwan
DTSTART:20240620T000000
DTEND:20240622T235959
LOCATION:
END:VEVENT
END:VCALENDAR
