BEGIN:VCALENDAR
PRODID:-//eluceo/ical//2.0/EN
VERSION:2.0
CALSCALE:GREGORIAN
BEGIN:VEVENT
UID:097676e02ebe7b8637ae80b26fd3ff7d
DTSTAMP:20260423T124849Z
SUMMARY:EXPOALIMENTARIA PERU
DESCRIPTION:Název akce: EXPOALIMENTARIA PERU\nURL: https://www.spcr.cz/exp
 oalimentaria-peru\nPopis: \n\nDovolujeme si Vám předat pozvání na vele
 trh Expoalimentaria - hlavní mezinárodní obchodní platformu pro potrav
 iny\, nápoje\, stroje\, zařízení\, zásoby\, nádoby a obaly\, služby
 \, sektor restaurací a gastronomie v Latinské Americe.\n\nAkce je význa
 mnou platformou podnikání používanou jako místo setkání klíčovýc
 h operátorů distribuce\, maloobchodu\, horeca a specializovaných kanál
 ů na národním a mezinárodním trhu. \nPodrobné informace naleznete n
 a tomto odkaze.\n
URL:https://www.spcr.cz/expoalimentaria-peru
DTSTART:20240925T000000
DTEND:20240927T235959
LOCATION:
END:VEVENT
END:VCALENDAR
