BEGIN:VCALENDAR
PRODID:-//eluceo/ical//2.0/EN
VERSION:2.0
CALSCALE:GREGORIAN
BEGIN:VEVENT
UID:07d2474f3f148382301a25f4f0881c87
DTSTAMP:20260423T162820Z
SUMMARY:Mezinárodní veletrh bezpečnosti SEGURITEC PERU
DESCRIPTION:Název akce: Mezinárodní veletrh bezpečnosti SEGURITEC PERU\
 nURL: https://www.spcr.cz/mezinarodni-veletrh-bezpecnosti-seguritec-peru\n
 Popis: \n\nDovolujeme si Vám předat pozvání peruánské ambasády na 1
 4. ročník Mezinárodního bezpečnostního veletrhu SEGURITEC PERU. Vel
 etrh proběhne 22. - 24. 5.  v Limě. Vybavení\, zásoby a Služby pro 
 fyzickou\, průmyslovou\, požární\, záchrannou a policejní bezpečnos
 t.\nJedná se o největší akci zaměřenou nabezpečnostní\, která se 
 od roku 1996 pořádá každé dva roky v Peru s cílem propagovat a prod
 ávat vybavení\, zásoby a služby pro bezpečnost.\nVeškeré podrobnost
 i naleznete pod tímto odkazem.\n
URL:https://www.spcr.cz/mezinarodni-veletrh-bezpecnosti-seguritec-peru
DTSTART:20240522T000000
DTEND:20240524T235959
LOCATION:
END:VEVENT
END:VCALENDAR
