BEGIN:VCALENDAR
PRODID:-//eluceo/ical//2.0/EN
VERSION:2.0
CALSCALE:GREGORIAN
BEGIN:VEVENT
UID:e6f73b901961e7084c71e2594a0e84d6
DTSTAMP:20260423T150144Z
SUMMARY:7. ročník mezinárodní vědeckovýzkumné konference o evropsk
 é integraci 
DESCRIPTION:Název akce: 7. ročník mezinárodní vědeckovýzkumné konfe
 rence o evropské integraci \nURL: https://www.spcr.cz/7-rocnik-mezinarod
 ni-vedeckovyzkumne-konference-o-evropske-integraci\nPopis: \n\nKatedra mez
 inárodních ekonomických vztahů Ekonomické fakulty VŠB-TUO pořádá 
 již 7. ročník mezinárodní vědeckovýzkumné konference o evropské 
 integraci (International Conference on European Integration – ICEI 2024)
 .\nNěkolik nej:\n\n\nNejvětší konference EkF VŠB-TUO\nJedna z nejvě
 tších univerzitních konferencí\nJediná konference svého druhu se zam
 ěřením na evropskou integraci v Moravskoslezském kraji\nVysoké mezin
 árodní zastoupení účastníků konference\nKonference s významnými 
 partnery\n\nHlavní téma konference: 20 let ČR v EU\nWebové stránky 
 konference: https://www.ekf.vsb.cz/icei/en/\nDoprovodný program konferen
 ce – workshopy:\n\nArtificial Intelligence for Academics Workshop – ho
 w can AI tools revolutionise your academic workflow – from idea generati
 on to final publication? This will be the subject of a workshop - https:
 //www.ekf.vsb.cz/icei/en/programme/side-event-artificial-intelligence/\nAc
 ademic Writing Workshop – conference outputs are papers and proceedings\
 , but how can we achieve this optimally in the conditions and offers of to
 day? This will be the subject of a workshop - https://www.ekf.vsb.cz/ice
 i/en/programme/side-event-academic-writing/\n\nRegistrace: zde\nSvaz prů
 myslu a dopravy České republiky poskytnul konferenci záštitu.\n \n
URL:https://www.spcr.cz/7-rocnik-mezinarodni-vedeckovyzkumne-konference-o-e
 vropske-integraci
DTSTART:20240529T000000
DTEND:20240531T235959
LOCATION:
END:VEVENT
END:VCALENDAR
