BEGIN:VCALENDAR
PRODID:-//eluceo/ical//2.0/EN
VERSION:2.0
CALSCALE:GREGORIAN
BEGIN:VEVENT
UID:985c0d4e0fae4cb1fe4c5b202e9dc154
DTSTAMP:20260423T124801Z
SUMMARY:Logistický kongres EASTLOG 2024
DESCRIPTION:Název akce: Logistický kongres EASTLOG 2024\nURL: https://www
 .spcr.cz/logisticky-kongres-eastlog-2024\nPopis: \n\nNejvýznamnější lo
 gistický kongres v Česku EASTLOG 2024 se zaměří na zodpovědnou logis
 tiku v celé své šíři (z pohledu životního prostředí\, zaměstnanc
 ů\, spolupráce se státní správou a samosprávou\, investic nebo vnitr
 opodnikových vztahů). Na kongresu vystoupí Deborah Dull\, světová exp
 ertka na cirkulární supply chain nebo ekonom Jan Švejnar.\nProgram při
 nese kromě konference i praktické workshopy s případovými studiemi (i
 ntralogistika\, doprava a supply chain)\, debaty u kulatých stolů (ESG\,
  HR)\, večerní Logistický Business Mixer nebo exkurze do zajímavých l
 ogistických center. Očekávaná účast je 700 logistických odborníků
 .\n\n\nNa webu www.eastlog.cz je otevřena registrace (uživatelé logisti
 ckých produktů a služeb mají vstup zdarma) a zveřejněn podrobný p
 rogram.\nTisková zpráva ke kongresu EASTLOG 2024\n\nSvaz průmyslu a dop
 ravy České republiky poskytnul kongresu záštitu.\n
URL:https://www.spcr.cz/logisticky-kongres-eastlog-2024
DTSTART:20240530T000000
DTEND:20240531T235959
LOCATION:
END:VEVENT
END:VCALENDAR
