BEGIN:VCALENDAR
PRODID:-//eluceo/ical//2.0/EN
VERSION:2.0
CALSCALE:GREGORIAN
BEGIN:VEVENT
UID:8a5ecf349654e87097e31480c17a2b8b
DTSTAMP:20260423T145951Z
SUMMARY:Aktuální situace v oblasti zaměstnávání cizinců v ČR
DESCRIPTION:Název akce: Aktuální situace v oblasti zaměstnávání cizi
 nců v ČR\nURL: https://www.spcr.cz/aktualni-situace-v-oblasti-zamestnava
 ni-cizincu-v-cr\nPopis: \n\nMinisterstvo průmyslu a obchodu ve spoluprác
 i s Ministerstvem zahraničních věcí\, Ministerstvem práce a sociáln
 ích věcí a Ministerstvem vnitra si Vás dovolují pozvat na seminářPR
 OGRAM SEMINÁŘE: Seminář nabídne užitečné informace k vládním pro
 gramům ekonomické migrace a aktuální situaci v oblasti zaměstnáván
 í cizinců. Seminář je určen především zaměstnavatelům\, kteří 
 hledají odpovědi na otázky\, jak legálně zaměstnat kvalifikované za
 městnance ze třetích zemí\, dále garantům programů ekonomické migr
 ace a dalším subjektům\, které mají zájem se blíže seznámit s pro
 blematikou zaměstnávání cizinců. Podrobný program je zveřejněn na 
 https://www.mpo.cz/cz/zahranicni-obchod/ekonomicka-migrace/pozvanka-na-reg
 ionalni-seminare-k-problematice-zamestnavani-cizincu-v-cr--280515/..Neváh
 ejte se proto co nejdříve na seminář registrovat vyplněním registra
 čního formuláře. Registrace a účast na semináři je bezplatná.\n
URL:https://www.spcr.cz/aktualni-situace-v-oblasti-zamestnavani-cizincu-v-c
 r
DTSTART:20240523T093000
DTEND:20240523T235959
LOCATION:
END:VEVENT
END:VCALENDAR
