BEGIN:VCALENDAR
PRODID:-//eluceo/ical//2.0/EN
VERSION:2.0
CALSCALE:GREGORIAN
BEGIN:VEVENT
UID:1c4c291bba56eb2cf25ea10bb28b689b
DTSTAMP:20260423T130319Z
SUMMARY:Aktuální situace v oblasti zaměstnávání cizinců v ČR
DESCRIPTION:Název akce: Aktuální situace v oblasti zaměstnávání cizi
 nců v ČR\nURL: https://www.spcr.cz/aktualni-situace-v-oblasti-zamestnava
 ni-cizincu-v-cr-0\nPopis: \n\nMinisterstvo průmyslu a obchodu ve spolupr
 áci s Ministerstvem zahraničních věcí\, Ministerstvem práce a sociá
 lních věcí a Ministerstvem vnitra si Vás dovolují pozvat na seminář
 .PROGRAM SEMINÁŘE: Seminář nabídne užitečné informace k vládním 
 programům ekonomické migrace a aktuální situaci v oblasti zaměstnáv
 ání cizinců. Seminář je určen především zaměstnavatelům\, kteř
 í hledají odpovědi na otázky\, jak legálně zaměstnat kvalifikované
  zaměstnance ze třetích zemí\, dále garantům programů ekonomické m
 igrace a dalším subjektům\, které mají zájem se blíže seznámit s 
 problematikou zaměstnávání cizinců. Podrobný program je zveřejněn 
 na https://www.mpo.cz/cz/zahranicni-obchod/ekonomicka-migrace/pozvanka-na-
 regionalni-seminare-k-problematice-zamestnavani-cizincu-v-cr--280515/.Nev
 áhejte se proto co nejdříve na seminář registrovat vyplněním regist
 račního formuláře . Registrace a účast na semináři je bezplatná.\
 n
URL:https://www.spcr.cz/aktualni-situace-v-oblasti-zamestnavani-cizincu-v-c
 r-0
DTSTART:20240530T093000
DTEND:20240530T235959
LOCATION:
END:VEVENT
END:VCALENDAR
