BEGIN:VCALENDAR
PRODID:-//eluceo/ical//2.0/EN
VERSION:2.0
CALSCALE:GREGORIAN
BEGIN:VEVENT
UID:6dc5c70a8835d6a67ad77940b0e1cb14
DTSTAMP:20260423T162959Z
SUMMARY:Jak využít AI v praxi?
DESCRIPTION:Název akce: Jak využít AI v praxi?\nURL: https://www.spcr.cz
 /jak-vyuzit-ai-v-praxi\nPopis: \n\nAkce se koná pod záštitou Martina P
 ůty\, hejtmana Libereckého kraje.\nKonference představí praktické vyu
 žívání generativní umělé inteligence\, příklady z průmyslu\, nov
 é trendy a postupy.\nVíce informací k programu a registraci (zdarma) zd
 e.\n \n
URL:https://www.spcr.cz/jak-vyuzit-ai-v-praxi
DTSTART:20240523T090000
DTEND:20240523T153000
LOCATION:
END:VEVENT
END:VCALENDAR
