BEGIN:VCALENDAR
PRODID:-//eluceo/ical//2.0/EN
VERSION:2.0
CALSCALE:GREGORIAN
BEGIN:VEVENT
UID:804af22bee0e11a38bacf2f78019cacf
DTSTAMP:20260423T163117Z
SUMMARY:Jak na kanadský startupový trh - setkání s Toronto Business Dev
 elopment Council
DESCRIPTION:Název akce: Jak na kanadský startupový trh - setkání s Tor
 onto Business Development Council\nURL: https://www.spcr.cz/jak-na-kanadsk
 y-startupovy-trh-setkani-s-toronto-business-development-council\nPopis: \n
 \nMinisterstvo průmyslu a obchodu ČR si Vás dovoluje pozvat na setkán
 í s Toronto Business Development Council\, významným ontarijským inku
 bátorem\, který spolupracuje s městem i provinční a kanadskou vládou
 .\nChairman TBDC\, pan Vikram Khurana\, zavítá příští týden do Čes
 ké Republiky a rád se setká se startupy\, které se chystají do Kanady
  v rámci mise Ministerstva průmyslu a obchodu a Svazu průmyslu a doprav
 y\, stejně jako se společnostmi\, které mají zájem o vstup na kanadsk
 ý trh. Vikram má rozsáhlé zkušenosti z podpory startupů\, consulting
 u a bankovního sektoru\, působí jako angel investor a podnikatel. Na se
 tkání se podělí o informace o specifikách vstupu na kanadský trh\, m
 ožnosti podpory v rámci inkubace startupů TBDC a příležitosti pro in
 dividuální podporu firem v rámci soft-landingu. Na setkání budete mí
 t příležitost diskutovat škálu dalších témat ze světa kanadských
  startupů.\nVybrané informace o přednášejícím:\nVikram (Vik) Khuran
 a is a Canadian entrepreneur\, experienced in business consulting and IT o
 utsourcing. Previously\, Vik worked with TD Bank in Commercial Credit. Vik
  has been an advisor\, board member\, investor\, and consultant to a numbe
 r of multinational companies and organizations in the field of Information
  Technology\, Business Process Outsourcing and Information Technology Enab
 led Services. Vik has also invested in a variety of start-ups as an Angel 
 investor. Vik is currently the Chair of Toronto Business Development Cent
 re (TBDC)\, serves as board member of FinDev Canada\, and is a member of t
 he Dean’s Council of Ted Rogers School of Management at Ryerson Universi
 ty.\nV případě zájmu o účast Vás prosíme o registraci do 11. dubna
  do 12:00 na tomto odkaze: https://forms.gle/AoSEnv6Lc1rhf1MYA. Účast n
 a akci je zdarma.\n
URL:https://www.spcr.cz/jak-na-kanadsky-startupovy-trh-setkani-s-toronto-bu
 siness-development-council
DTSTART:20240412T093000
DTEND:20240412T110000
LOCATION:
END:VEVENT
END:VCALENDAR
