BEGIN:VCALENDAR
PRODID:-//eluceo/ical//2.0/EN
VERSION:2.0
CALSCALE:GREGORIAN
BEGIN:VEVENT
UID:f08f4a46b8394a37516f21b2230a3766
DTSTAMP:20260423T125013Z
SUMMARY:Summit o budoucnosti Ukrajiny
DESCRIPTION:Název akce: Summit o budoucnosti Ukrajiny\nURL: https://www.sp
 cr.cz/summit-o-budoucnosti-ukrajiny\nPopis: \n\nPozvánka na summit o budo
 ucnosti Ukrajiny v Bruselu.\nTato akce je primárně zacílena na soukrom
 ý sektor\; součástí bude rovněž matchmaking.Registrace je zdarma (do
  vyčerpání kapacity). Více informací najdete v přiložených dokumen
 tech.\n
URL:https://www.spcr.cz/summit-o-budoucnosti-ukrajiny
DTSTART:20240418T090000
DTEND:20240418T170000
LOCATION:
END:VEVENT
END:VCALENDAR
