BEGIN:VCALENDAR
PRODID:-//eluceo/ical//2.0/EN
VERSION:2.0
CALSCALE:GREGORIAN
BEGIN:VEVENT
UID:7960473bb80f52bd33612782eb7be1fc
DTSTAMP:20260423T125644Z
SUMMARY:Startujeme s AI: Základy AI (umělé inteligence) pro obchod 
DESCRIPTION:Název akce: Startujeme s AI: Základy AI (umělé inteligence)
  pro obchod \nURL: https://www.spcr.cz/startujeme-s-ai-zaklady-ai-umele-in
 teligence-pro-obchod\nPopis: \n\nDovolujeme si Vás pozvat na seminář po
 řádaný agenturou CzechTrade. \nAnotace semináře:\n\nPokud chcete poc
 hopit\, co AI je\, jak funguje a jak ji můžete efektivně využít pro z
 lepšení vašich obchodních procesů\, produktů a služeb\, pak je tent
 o seminář určen právě pro vás\nZískáte praktické znalosti a doved
 nosti\, které vám pomohou zvýšit vaši produktivitu\, kreativitu a kon
 kurenční výhodu.\nPraktické ukázky a inspirace\,tvorba vlastních vý
 stupů k okamžitému využití\nUrčeno pro začátečníky - seminář p
 ro pokročilé se uskuteční dne 14.5.\n\nBližší informace a možnost 
 registrace zde. \n
URL:https://www.spcr.cz/startujeme-s-ai-zaklady-ai-umele-inteligence-pro-ob
 chod
DTSTART:20240425T090000
DTEND:20240425T170000
LOCATION:
END:VEVENT
END:VCALENDAR
