BEGIN:VCALENDAR
PRODID:-//eluceo/ical//2.0/EN
VERSION:2.0
CALSCALE:GREGORIAN
BEGIN:VEVENT
UID:b84c70dc3efe7492589990fffae78200
DTSTAMP:20260423T130212Z
SUMMARY:Uspějte na britském pivním trhu: On-trade & Off-trade strategie 
DESCRIPTION:Název akce: Uspějte na britském pivním trhu: On-trade & Off
 -trade strategie \nURL: https://www.spcr.cz/uspejte-na-britskem-pivnim-trh
 u-trade-trade-strategie\nPopis: \n\nDovolujeme si Vás pozvat na seminář
  pořádaný agenturou CzechTrade. \nAnotace semináře:\n\nPivní trh ve
  velké Británii a nezbytné předpoklady spolupráce s britskými import
 éry/distributory\nOn-trade vs Off-trade\, nové formáty v rámci On-trad
 e\nKlíčové exportní kanály pro vaše pivo do UK aneb jak na to\nIndiv
 iduální konzultace se zástupcem vedoucího zahraniční kanceláře Cze
 chTrade Spojené království a Irsko Martinem Macourkem\n\nBližší info
 rmace a možnost registrace zde. \n
URL:https://www.spcr.cz/uspejte-na-britskem-pivnim-trhu-trade-trade-strateg
 ie
DTSTART:20240418T133000
DTEND:20240418T153000
LOCATION:
END:VEVENT
END:VCALENDAR
