BEGIN:VCALENDAR
PRODID:-//eluceo/ical//2.0/EN
VERSION:2.0
CALSCALE:GREGORIAN
BEGIN:VEVENT
UID:a396844b62e063650a4ad2f1d2a32d34
DTSTAMP:20260423T163201Z
SUMMARY:DOING BUSINESS - Velká Británie\, Ostrava 
DESCRIPTION:Název akce: DOING BUSINESS - Velká Británie\, Ostrava \nURL:
  https://www.spcr.cz/doing-business-velka-britanie-ostrava\nPopis: \n\nDov
 olujeme si Vás pozvat na seminář pořádaný agenturou CzechTrade. \nA
 notace semináře:\n\nSoučasné UK – ekonomické klima a výhled do bud
 oucna\nPříležitost ve Spojeném království v době pobrexitové a př
 íprava na vstup do UK – analýza konkurence\nNová příležitost pro e
 xportéry: Design & Tech Centrum v Londýně\nIndividuální konzultace se
  zástupcem vedoucího zahraniční kanceláře CzechTrade Spojené králo
 vství a Irsko Martinem Macourkem\n\nBližší informace a možnost regist
 race zde. \n
URL:https://www.spcr.cz/doing-business-velka-britanie-ostrava
DTSTART:20240417T100000
DTEND:20240417T120000
LOCATION:
END:VEVENT
END:VCALENDAR
